BEGIN:VCALENDAR
VERSION:2.0
PRODID:-//Voice of English-speaking Québec - ECPv6.15.17.1//NONSGML v1.0//EN
CALSCALE:GREGORIAN
METHOD:PUBLISH
X-ORIGINAL-URL:https://veq.ca
X-WR-CALDESC:Events for Voice of English-speaking Québec
REFRESH-INTERVAL;VALUE=DURATION:PT1H
X-Robots-Tag:noindex
X-PUBLISHED-TTL:PT1H
BEGIN:VTIMEZONE
TZID:America/Toronto
BEGIN:DAYLIGHT
TZOFFSETFROM:-0500
TZOFFSETTO:-0400
TZNAME:EDT
DTSTART:20220313T070000
END:DAYLIGHT
BEGIN:STANDARD
TZOFFSETFROM:-0400
TZOFFSETTO:-0500
TZNAME:EST
DTSTART:20221106T060000
END:STANDARD
BEGIN:DAYLIGHT
TZOFFSETFROM:-0500
TZOFFSETTO:-0400
TZNAME:EDT
DTSTART:20230312T070000
END:DAYLIGHT
BEGIN:STANDARD
TZOFFSETFROM:-0400
TZOFFSETTO:-0500
TZNAME:EST
DTSTART:20231105T060000
END:STANDARD
BEGIN:DAYLIGHT
TZOFFSETFROM:-0500
TZOFFSETTO:-0400
TZNAME:EDT
DTSTART:20240310T070000
END:DAYLIGHT
BEGIN:STANDARD
TZOFFSETFROM:-0400
TZOFFSETTO:-0500
TZNAME:EST
DTSTART:20241103T060000
END:STANDARD
BEGIN:DAYLIGHT
TZOFFSETFROM:-0500
TZOFFSETTO:-0400
TZNAME:EDT
DTSTART:20250309T070000
END:DAYLIGHT
BEGIN:STANDARD
TZOFFSETFROM:-0400
TZOFFSETTO:-0500
TZNAME:EST
DTSTART:20251102T060000
END:STANDARD
BEGIN:DAYLIGHT
TZOFFSETFROM:-0500
TZOFFSETTO:-0400
TZNAME:EDT
DTSTART:20260308T070000
END:DAYLIGHT
BEGIN:STANDARD
TZOFFSETFROM:-0400
TZOFFSETTO:-0500
TZNAME:EST
DTSTART:20261101T060000
END:STANDARD
END:VTIMEZONE
BEGIN:VEVENT
DTSTART;TZID=America/Toronto:20250918T160000
DTEND;TZID=America/Toronto:20250918T173000
DTSTAMP:20260422T095508
CREATED:20250829T195533Z
LAST-MODIFIED:20250903T194757Z
UID:10002385-1758211200-1758216600@veq.ca
SUMMARY:Arts & Crafts (Shannon) - Papier-Mâché
DESCRIPTION:Join us to make exotic sea animals (starfish or sea turtle) with papier-mâché. We’ll be using cardboard\, paper\, tape\, scissors\, glue\, water\, and paint to create these colourful characters! \n.   –  \n 
URL:https://veq.ca/event/arts-crafts-shannon/
LOCATION:VEQ Community Space in Shannon (1st Floor)\, 438 Boul Jacques Cartier\, Shannon\, Quebec\, Canada
CATEGORIES:Events and Activities for All
ORGANIZER;CN="Dominique Paddack":MAILTO:dominique.paddack@veq.ca
END:VEVENT
BEGIN:VEVENT
DTSTART;TZID=America/Toronto:20241007T170000
DTEND;TZID=America/Toronto:20241007T200000
DTSTAMP:20260422T095508
CREATED:20250414T124057Z
LAST-MODIFIED:20250414T124057Z
UID:10000186-1728320400-1728331200@veq.ca
SUMMARY:In Stitches- Shannon Knitting Circle
DESCRIPTION:A fun activity for ages 16+. Learn how to knit\, improve your technique or work on your project in a supportive social environment each week throughout the Fall! \nContact Jeanne Nivischiuk with any questions\, 418-683-2366 x 228 or david.zhu@veq.ca
URL:https://veq.ca/event/in-stitches-shannon-knitting-circle/
LOCATION:VEQ Community Space in Shannon (1st Floor)\, 438 Boul Jacques Cartier\, Shannon\, Quebec\, Canada
ORGANIZER;CN="David Zhu":MAILTO:david.zhu@veq.ca
END:VEVENT
BEGIN:VEVENT
DTSTART;TZID=America/Toronto:20230918T180000
DTEND;TZID=America/Toronto:20230918T193000
DTSTAMP:20260422T095508
CREATED:20250414T162928Z
LAST-MODIFIED:20250414T162928Z
UID:10000570-1695060000-1695065400@veq.ca
SUMMARY:In Stitches- Shannon Knitting Circle
DESCRIPTION:A fun activity for ages 16+. Learn how to knit\, improve your technique or work on your project in a supportive social environment each week throughout the Fall! \nContact Jeanne Nivischiuk with any questions\, 418-683-2366 x 228 or catherine.baboudjian@veq.ca
URL:https://veq.ca/event/in-stitches-shannon-knitting-circle-2/
LOCATION:VEQ Community Space in Shannon (1st Floor)\, 438 Boul Jacques Cartier\, Shannon\, Quebec\, Canada
ORGANIZER;CN="Jeanne Nivischiuk":MAILTO:jeannenivischiuk.veq@gmail.com
END:VEVENT
END:VCALENDAR