BEGIN:VCALENDAR
VERSION:2.0
PRODID:-//Voice of English-speaking Québec - ECPv6.15.17.1//NONSGML v1.0//EN
CALSCALE:GREGORIAN
METHOD:PUBLISH
X-WR-CALNAME:Voice of English-speaking Québec
X-ORIGINAL-URL:https://veq.ca
X-WR-CALDESC:Events for Voice of English-speaking Québec
REFRESH-INTERVAL;VALUE=DURATION:PT1H
X-Robots-Tag:noindex
X-PUBLISHED-TTL:PT1H
BEGIN:VTIMEZONE
TZID:America/Toronto
BEGIN:DAYLIGHT
TZOFFSETFROM:-0500
TZOFFSETTO:-0400
TZNAME:EDT
DTSTART:20240310T070000
END:DAYLIGHT
BEGIN:STANDARD
TZOFFSETFROM:-0400
TZOFFSETTO:-0500
TZNAME:EST
DTSTART:20241103T060000
END:STANDARD
BEGIN:DAYLIGHT
TZOFFSETFROM:-0500
TZOFFSETTO:-0400
TZNAME:EDT
DTSTART:20250309T070000
END:DAYLIGHT
BEGIN:STANDARD
TZOFFSETFROM:-0400
TZOFFSETTO:-0500
TZNAME:EST
DTSTART:20251102T060000
END:STANDARD
BEGIN:DAYLIGHT
TZOFFSETFROM:-0500
TZOFFSETTO:-0400
TZNAME:EDT
DTSTART:20260308T070000
END:DAYLIGHT
BEGIN:STANDARD
TZOFFSETFROM:-0400
TZOFFSETTO:-0500
TZNAME:EST
DTSTART:20261101T060000
END:STANDARD
END:VTIMEZONE
BEGIN:VEVENT
DTSTART;TZID=America/Toronto:20250207T140000
DTEND;TZID=America/Toronto:20250207T183000
DTSTAMP:20260424T134549
CREATED:20250414T123658Z
LAST-MODIFIED:20250414T123658Z
UID:10000109-1738936800-1738953000@veq.ca
SUMMARY:Out & About:  Brunch & Royaume de la Tarte
DESCRIPTION:Join us for a delightful morning out from 9:00 a.m. to 1:30 p.m.! Our outing begins with a cozy brunch at Normandin\, where you’ll enjoy hearty meals and great company. Afterward\, we’ll head to Royaume de la Tarte for a fun and delicious pie hunt! Whether you’re a fan of classic flavours or eager to try something new\, there’s a slice for everyone. Don’t miss this opportunity to enjoy great food\, find your perfect pie\, and connect with community members. \nDetails: \n\nBrunch at Normandin: Enjoy a variety of classic brunch options.\nPie Hunt at Royaume de la Tarte: Explore a tempting selection of pies for all tastes.\nTime Frame: 9:00 AM to 1:30 PM\n\nThis is the perfect outing for food lovers and those who want to relax with friends. Come for the brunch\, stay for the pie!
URL:https://veq.ca/event/out-about-brunch-royaume-de-la-tarte/
LOCATION:Royaume de la Tarte\, 553 Bd Charest O\, Québec City\, Quebec\, G1N 2T9\, Canada
ORGANIZER;CN="Ariel Blouin":MAILTO:maria.hoyt@veq.ca
END:VEVENT
END:VCALENDAR