BEGIN:VCALENDAR
VERSION:2.0
PRODID:-//Voice of English-speaking Québec - ECPv6.15.17.1//NONSGML v1.0//EN
CALSCALE:GREGORIAN
METHOD:PUBLISH
X-ORIGINAL-URL:https://veq.ca
X-WR-CALDESC:Events for Voice of English-speaking Québec
REFRESH-INTERVAL;VALUE=DURATION:PT1H
X-Robots-Tag:noindex
X-PUBLISHED-TTL:PT1H
BEGIN:VTIMEZONE
TZID:America/Toronto
BEGIN:DAYLIGHT
TZOFFSETFROM:-0500
TZOFFSETTO:-0400
TZNAME:EDT
DTSTART:20230312T070000
END:DAYLIGHT
BEGIN:STANDARD
TZOFFSETFROM:-0400
TZOFFSETTO:-0500
TZNAME:EST
DTSTART:20231105T060000
END:STANDARD
BEGIN:DAYLIGHT
TZOFFSETFROM:-0500
TZOFFSETTO:-0400
TZNAME:EDT
DTSTART:20240310T070000
END:DAYLIGHT
BEGIN:STANDARD
TZOFFSETFROM:-0400
TZOFFSETTO:-0500
TZNAME:EST
DTSTART:20241103T060000
END:STANDARD
BEGIN:DAYLIGHT
TZOFFSETFROM:-0500
TZOFFSETTO:-0400
TZNAME:EDT
DTSTART:20250309T070000
END:DAYLIGHT
BEGIN:STANDARD
TZOFFSETFROM:-0400
TZOFFSETTO:-0500
TZNAME:EST
DTSTART:20251102T060000
END:STANDARD
END:VTIMEZONE
BEGIN:VEVENT
DTSTART;TZID=America/Toronto:20240716T140000
DTEND;TZID=America/Toronto:20240716T183000
DTSTAMP:20260425T072316
CREATED:20250414T130401Z
LAST-MODIFIED:20250414T130401Z
UID:10000247-1721138400-1721154600@veq.ca
SUMMARY:Out & About - Quai Paquet
DESCRIPTION:Out & About offers English speakers (50+) free transportation to various community activities while providing the opportunity to go out\, socialize\, and connect with others. Weekly outings include shopping trips\, nature visits\, excursions to l’Île d’Orléans\, visits to museums\, ice cream\, and more! \n**This week join us for a ferry ride across the St. Lawrence River to Lévis to enjoy the view of Québec City from Quai Paquet. You can choose to eat lunch on your own\, at a food truck\, or at a local restaurant. \nFood trucks available: Chocolats Favoris\, Poissonnerie Némeau \nPlease contact Maria to register and discuss transportation options 418-683-2366 x221 or maria.hoyt@veq.ca \n  \n\n\n  \n 
URL:https://veq.ca/event/out-about-quai-paquet/
LOCATION:Québec-Lévis Ferry\, 25 Rue du Marché-Champlain\, Québec City\, Quebec\, G1K 8Z8\, Canada
ORGANIZER;CN="Maria Hoyt":MAILTO:maria.hoyt@veq.ca
END:VEVENT
BEGIN:VEVENT
DTSTART;TZID=America/Toronto:20240711T140000
DTEND;TZID=America/Toronto:20240711T183000
DTSTAMP:20260425T072316
CREATED:20250414T130401Z
LAST-MODIFIED:20250414T130401Z
UID:10000248-1720706400-1720722600@veq.ca
SUMMARY:*POSTPONED: Out & About - Quai Paquet
DESCRIPTION:Out & About offers English speakers (50+) free transportation to various community activities while providing the opportunity to go out\, socialize\, and connect with others. Weekly outings include shopping trips\, nature visits\, excursions to l’Île d’Orléans\, visits to museums\, ice cream\, and more! \n**Due to the ferry strike\, this outing will be postponed to THURSDAY\, JULY 18.  \nThis week join us for a ferry ride across the St. Lawrence River to Lévis to enjoy the view of Québec City from Quai Paquet. You can choose to eat lunch on your own\, at a food truck\, or at a local restaurant. \nFood trucks available: Chocolats Favoris\, Poissonnerie Némeau \nPlease contact Maria to register and discuss transportation options 418-683-2366 x221 or maria.hoyt@veq.ca \n  \n\n\n  \n 
URL:https://veq.ca/event/postponed-out-about-quai-paquet/
LOCATION:Québec-Lévis Ferry\, 25 Rue du Marché-Champlain\, Québec City\, Quebec\, G1K 8Z8\, Canada
ORGANIZER;CN="Maria Hoyt":MAILTO:maria.hoyt@veq.ca
END:VEVENT
END:VCALENDAR