BEGIN:VCALENDAR
VERSION:2.0
PRODID:-//Voice of English-speaking Québec - ECPv6.15.17.1//NONSGML v1.0//EN
CALSCALE:GREGORIAN
METHOD:PUBLISH
X-ORIGINAL-URL:https://veq.ca
X-WR-CALDESC:Events for Voice of English-speaking Québec
REFRESH-INTERVAL;VALUE=DURATION:PT1H
X-Robots-Tag:noindex
X-PUBLISHED-TTL:PT1H
BEGIN:VTIMEZONE
TZID:America/Toronto
BEGIN:DAYLIGHT
TZOFFSETFROM:-0500
TZOFFSETTO:-0400
TZNAME:EDT
DTSTART:20240310T070000
END:DAYLIGHT
BEGIN:STANDARD
TZOFFSETFROM:-0400
TZOFFSETTO:-0500
TZNAME:EST
DTSTART:20241103T060000
END:STANDARD
BEGIN:DAYLIGHT
TZOFFSETFROM:-0500
TZOFFSETTO:-0400
TZNAME:EDT
DTSTART:20250309T070000
END:DAYLIGHT
BEGIN:STANDARD
TZOFFSETFROM:-0400
TZOFFSETTO:-0500
TZNAME:EST
DTSTART:20251102T060000
END:STANDARD
BEGIN:DAYLIGHT
TZOFFSETFROM:-0500
TZOFFSETTO:-0400
TZNAME:EDT
DTSTART:20260308T070000
END:DAYLIGHT
BEGIN:STANDARD
TZOFFSETFROM:-0400
TZOFFSETTO:-0500
TZNAME:EST
DTSTART:20261101T060000
END:STANDARD
END:VTIMEZONE
BEGIN:VEVENT
DTSTART;TZID=America/Toronto:20250211T150000
DTEND;TZID=America/Toronto:20250211T163000
DTSTAMP:20260424T123634
CREATED:20250414T123658Z
LAST-MODIFIED:20250414T123658Z
UID:10000107-1739286000-1739291400@veq.ca
SUMMARY:Out & About: Tea Tasting with La maison des 100 thés
DESCRIPTION:☕ Tea Tasting at Maison de la 100 Thé! 🍵✨ \nJoin us for a delightful tea-tasting experience at Maison de la 100 Thé\, a local anglophone-owned business! Let’s unite to support our community while enjoying a relaxing tea ceremony. \n📅 Dates: \n\nFebruary 11 – A few spaces left!\nFebruary 18 – FULL\n\n⏰ Departure: 9:00 AM from Jeff (we will pick up everyone along the way)\n🫖 Tea Ceremony: 1-hour guided tasting experience\n🎟️ Cost: $15 (we’re covering half the cost!)\n🎉 Bonus: A raffle at the end of the ceremony!\n🥞 Afterward: We’ll head to Mon Petit Chalet for a delicious breakfast. \nSip\, savour\, and socialize! ☕✨ Limited spots available – register now!
URL:https://veq.ca/event/out-about-tea-tasting-with-la-maison-des-100-thes/
LOCATION:La maison des 100 thés\, 1313 Av. Maguire\, Québec City\, Quebec\, G1T 1Z2\, Canada
END:VEVENT
END:VCALENDAR