BEGIN:VCALENDAR
VERSION:2.0
PRODID:-//Voice of English-speaking Québec - ECPv6.15.17.1//NONSGML v1.0//EN
CALSCALE:GREGORIAN
METHOD:PUBLISH
X-WR-CALNAME:Voice of English-speaking Québec
X-ORIGINAL-URL:https://veq.ca
X-WR-CALDESC:Events for Voice of English-speaking Québec
REFRESH-INTERVAL;VALUE=DURATION:PT1H
X-Robots-Tag:noindex
X-PUBLISHED-TTL:PT1H
BEGIN:VTIMEZONE
TZID:America/Toronto
BEGIN:DAYLIGHT
TZOFFSETFROM:-0500
TZOFFSETTO:-0400
TZNAME:EDT
DTSTART:20200308T070000
END:DAYLIGHT
BEGIN:STANDARD
TZOFFSETFROM:-0400
TZOFFSETTO:-0500
TZNAME:EST
DTSTART:20201101T060000
END:STANDARD
BEGIN:DAYLIGHT
TZOFFSETFROM:-0500
TZOFFSETTO:-0400
TZNAME:EDT
DTSTART:20210314T070000
END:DAYLIGHT
BEGIN:STANDARD
TZOFFSETFROM:-0400
TZOFFSETTO:-0500
TZNAME:EST
DTSTART:20211107T060000
END:STANDARD
BEGIN:DAYLIGHT
TZOFFSETFROM:-0500
TZOFFSETTO:-0400
TZNAME:EDT
DTSTART:20220313T070000
END:DAYLIGHT
BEGIN:STANDARD
TZOFFSETFROM:-0400
TZOFFSETTO:-0500
TZNAME:EST
DTSTART:20221106T060000
END:STANDARD
BEGIN:DAYLIGHT
TZOFFSETFROM:-0500
TZOFFSETTO:-0400
TZNAME:EDT
DTSTART:20230312T070000
END:DAYLIGHT
BEGIN:STANDARD
TZOFFSETFROM:-0400
TZOFFSETTO:-0500
TZNAME:EST
DTSTART:20231105T060000
END:STANDARD
BEGIN:DAYLIGHT
TZOFFSETFROM:-0500
TZOFFSETTO:-0400
TZNAME:EDT
DTSTART:20240310T070000
END:DAYLIGHT
BEGIN:STANDARD
TZOFFSETFROM:-0400
TZOFFSETTO:-0500
TZNAME:EST
DTSTART:20241103T060000
END:STANDARD
BEGIN:DAYLIGHT
TZOFFSETFROM:-0500
TZOFFSETTO:-0400
TZNAME:EDT
DTSTART:20250309T070000
END:DAYLIGHT
BEGIN:STANDARD
TZOFFSETFROM:-0400
TZOFFSETTO:-0500
TZNAME:EST
DTSTART:20251102T060000
END:STANDARD
END:VTIMEZONE
BEGIN:VEVENT
DTSTART;TZID=America/Toronto:20241108T140000
DTEND;TZID=America/Toronto:20241108T180000
DTSTAMP:20260424T200235
CREATED:20250414T123942Z
LAST-MODIFIED:20250414T123942Z
UID:10000162-1731074400-1731088800@veq.ca
SUMMARY:Out & About: Citadel Visit
DESCRIPTION:🏰 Citadel Visit – Two Dates Available! \n🗓 Dates/Times: \n\nFriday\, November 8th\nFriday\, November 15th\nPrice: $9 per person\n\nGet ready for an exciting exploration of the historic Citadel of Quebec City! Step into history as we take a guided tour through this incredible fortress\, learning about its rich military past. You’ll experience: \n\nFascinating exhibits 🏺\nStunning architecture 🏛\nBreathtaking views of the city and river 🌊\n\nSince it’s an outdoor event\, bundle up in warm clothes to stay cozy while we walk through the grounds! 🧥✨This is the perfect chance to learn\, discover\, and enjoy Quebec’s unique history. Don’t miss out!
URL:https://veq.ca/event/out-about-citadel-visit/
LOCATION:La Citadelle\, 1 Côte de la Citadelle\, Québec City\, Quebec\, G1R 3R2\, Canada
ORGANIZER;CN="Ariel Blouin":MAILTO:maria.hoyt@veq.ca
END:VEVENT
BEGIN:VEVENT
DTSTART;TZID=America/Toronto:20211110T153000
DTEND;TZID=America/Toronto:20211110T190000
DTSTAMP:20260424T200235
CREATED:20250414T180043Z
LAST-MODIFIED:20250414T180043Z
UID:10000988-1636558200-1636570800@veq.ca
SUMMARY:Out & About - La Citadelle
DESCRIPTION:VEQ invites people aged 50+  to hop on the bus as we go visit Quebec’s historic “La Citadelle” — entry tickets are $16 per person and includes a 1 hour tour (English) of outside grounds and the Royal Museum of the 22e Regiment (30 minutes); \nAfter the Citadelle tour\, we will have lunch in Old Quebec – please bring your QR code/Vaccination passport. \nTo reserve a spot\, as places are limited\, please contact Dominique Paddack at 418-683-2366 x 227 or dominique.paddack@veq.ca.
URL:https://veq.ca/event/out-about-la-citadelle/
LOCATION:La Citadelle\, 1 Côte de la Citadelle\, Québec City\, Quebec\, G1R 3R2\, Canada
ORGANIZER;CN="Dominique Paddack":MAILTO:dominique.paddack@veq.ca
END:VEVENT
END:VCALENDAR