BEGIN:VCALENDAR
VERSION:2.0
PRODID:-//Voice of English-speaking Québec - ECPv6.15.17.1//NONSGML v1.0//EN
CALSCALE:GREGORIAN
METHOD:PUBLISH
X-WR-CALNAME:Voice of English-speaking Québec
X-ORIGINAL-URL:https://veq.ca
X-WR-CALDESC:Events for Voice of English-speaking Québec
REFRESH-INTERVAL;VALUE=DURATION:PT1H
X-Robots-Tag:noindex
X-PUBLISHED-TTL:PT1H
BEGIN:VTIMEZONE
TZID:America/Toronto
BEGIN:DAYLIGHT
TZOFFSETFROM:-0500
TZOFFSETTO:-0400
TZNAME:EDT
DTSTART:20210314T070000
END:DAYLIGHT
BEGIN:STANDARD
TZOFFSETFROM:-0400
TZOFFSETTO:-0500
TZNAME:EST
DTSTART:20211107T060000
END:STANDARD
BEGIN:DAYLIGHT
TZOFFSETFROM:-0500
TZOFFSETTO:-0400
TZNAME:EDT
DTSTART:20220313T070000
END:DAYLIGHT
BEGIN:STANDARD
TZOFFSETFROM:-0400
TZOFFSETTO:-0500
TZNAME:EST
DTSTART:20221106T060000
END:STANDARD
BEGIN:DAYLIGHT
TZOFFSETFROM:-0500
TZOFFSETTO:-0400
TZNAME:EDT
DTSTART:20230312T070000
END:DAYLIGHT
BEGIN:STANDARD
TZOFFSETFROM:-0400
TZOFFSETTO:-0500
TZNAME:EST
DTSTART:20231105T060000
END:STANDARD
BEGIN:DAYLIGHT
TZOFFSETFROM:-0500
TZOFFSETTO:-0400
TZNAME:EDT
DTSTART:20240310T070000
END:DAYLIGHT
BEGIN:STANDARD
TZOFFSETFROM:-0400
TZOFFSETTO:-0500
TZNAME:EST
DTSTART:20241103T060000
END:STANDARD
BEGIN:DAYLIGHT
TZOFFSETFROM:-0500
TZOFFSETTO:-0400
TZNAME:EDT
DTSTART:20250309T070000
END:DAYLIGHT
BEGIN:STANDARD
TZOFFSETFROM:-0400
TZOFFSETTO:-0500
TZNAME:EST
DTSTART:20251102T060000
END:STANDARD
END:VTIMEZONE
BEGIN:VEVENT
DTSTART;TZID=America/Toronto:20240613T140000
DTEND;TZID=America/Toronto:20240613T180000
DTSTAMP:20260425T090952
CREATED:20250414T131003Z
LAST-MODIFIED:20250414T131003Z
UID:10000260-1718287200-1718301600@veq.ca
SUMMARY:Out & About - Jardin universitaire Roger-Van den Hende
DESCRIPTION:Out & About offers English speakers (50+) free transportation to various community activities while providing the opportunity to go out\, socialize\, and connect with others. Weekly outings include shopping trips\, nature visits\, excursions to l’Île d’Orléans\, visits to museums\, ice cream\, and more! \n**This week join us for a visit to the beautiful Jardin universitaire Roger-Van den Hende at Universty Laval. Please contact Maria Hoyt (418-683-2366 x221 or maria.hoyt@veq.ca) for more information or to sign-up for transportation. \n  \n\n\n  \n 
URL:https://veq.ca/event/out-about-jardin-universitaire-roger-van-den-hende/
LOCATION:Jardin universitaire Roger-Van den Hende\, 2480\, Boul. Hochelaga\, Québec City\, Quebec\, G1V 0A6\, Canada
ORGANIZER;CN="Maria Hoyt":MAILTO:maria.hoyt@veq.ca
END:VEVENT
BEGIN:VEVENT
DTSTART;TZID=America/Toronto:20220708T144500
DTEND;TZID=America/Toronto:20220708T164500
DTSTAMP:20260425T090952
CREATED:20250414T174954Z
LAST-MODIFIED:20250414T174954Z
UID:10000865-1657291500-1657298700@veq.ca
SUMMARY:Out & About: Van den Hende Botanical Garden & picnic lunch
DESCRIPTION:Out and About invites English-speaking “50+ers” to visit and stroll around the beautiful Roger-Van den Hende Botanical Garden on Friday July 8th and enjoy a picnic in these peaceful gardens!\nhttps://www.jardin.ulaval.ca/a-propos/qui-sommes-nous/”>https://www.jardin.ulaval.ca/a-propos/qui-sommes-nous/ \nThere are no fees for the visit — though donations can be given at the entrance. \nFor more information or to reserve your spot\, please contact Catherine Baboudjian.
URL:https://veq.ca/event/out-about-van-den-hende-botanical-garden-picnic-lunch/
LOCATION:Jardin universitaire Roger-Van den Hende\, 2480\, Boul. Hochelaga\, Québec City\, Quebec\, G1V 0A6\, Canada
ORGANIZER;CN="Catherine Baboudjian":MAILTO:catherine.baboudjian@veq.ca
END:VEVENT
BEGIN:VEVENT
DTSTART;TZID=America/Toronto:20220601T143000
DTEND;TZID=America/Toronto:20220601T173000
DTSTAMP:20260425T090952
CREATED:20250414T175349Z
LAST-MODIFIED:20250414T175349Z
UID:10000885-1654093800-1654104600@veq.ca
SUMMARY:Out & About: Van den Hende Botanical Garden & lunch at Place Ste-Foy
DESCRIPTION:Out & About invites English-speaking “50+ers” to visit and stroll around the beautiful Roger-Van den Hende Botanical Garden on Wednesday June 1st from 10:30 am to 11:30/45 am. \nhttps://www.jardin.ulaval.ca/a-propos/qui-sommes-nous/ \nThere are no fees for the visit — though donations can be given at the entrance. \nAfter the visit\, we will be lunching at noon at the Cochon Dingue in Place Ste-Foy — though you are welcome to stroll around Place Ste-Foy or go to the Food Courts if you prefer. Thanks for letting me know in advance\, however\, for reservation purposes (Cochon Dingue). \nWe will leave from Place Ste-Foy after lunch around 1:15/30 pm. \nFor more information or to reserve your spot\, please contact me by email or by phone.
URL:https://veq.ca/event/out-about-van-den-hende-botanical-garden-lunch-at-place-ste-foy/
LOCATION:Jardin universitaire Roger-Van den Hende\, 2480\, Boul. Hochelaga\, Québec City\, Quebec\, G1V 0A6\, Canada
ORGANIZER;CN="Dominique Paddack":MAILTO:dominique.paddack@veq.ca
END:VEVENT
END:VCALENDAR