BEGIN:VCALENDAR
VERSION:2.0
PRODID:-//Voice of English-speaking Québec - ECPv6.15.17.1//NONSGML v1.0//EN
CALSCALE:GREGORIAN
METHOD:PUBLISH
X-WR-CALNAME:Voice of English-speaking Québec
X-ORIGINAL-URL:https://veq.ca
X-WR-CALDESC:Events for Voice of English-speaking Québec
REFRESH-INTERVAL;VALUE=DURATION:PT1H
X-Robots-Tag:noindex
X-PUBLISHED-TTL:PT1H
BEGIN:VTIMEZONE
TZID:America/Toronto
BEGIN:DAYLIGHT
TZOFFSETFROM:-0500
TZOFFSETTO:-0400
TZNAME:EDT
DTSTART:20210314T070000
END:DAYLIGHT
BEGIN:STANDARD
TZOFFSETFROM:-0400
TZOFFSETTO:-0500
TZNAME:EST
DTSTART:20211107T060000
END:STANDARD
BEGIN:DAYLIGHT
TZOFFSETFROM:-0500
TZOFFSETTO:-0400
TZNAME:EDT
DTSTART:20220313T070000
END:DAYLIGHT
BEGIN:STANDARD
TZOFFSETFROM:-0400
TZOFFSETTO:-0500
TZNAME:EST
DTSTART:20221106T060000
END:STANDARD
BEGIN:DAYLIGHT
TZOFFSETFROM:-0500
TZOFFSETTO:-0400
TZNAME:EDT
DTSTART:20230312T070000
END:DAYLIGHT
BEGIN:STANDARD
TZOFFSETFROM:-0400
TZOFFSETTO:-0500
TZNAME:EST
DTSTART:20231105T060000
END:STANDARD
BEGIN:DAYLIGHT
TZOFFSETFROM:-0500
TZOFFSETTO:-0400
TZNAME:EDT
DTSTART:20240310T070000
END:DAYLIGHT
BEGIN:STANDARD
TZOFFSETFROM:-0400
TZOFFSETTO:-0500
TZNAME:EST
DTSTART:20241103T060000
END:STANDARD
BEGIN:DAYLIGHT
TZOFFSETFROM:-0500
TZOFFSETTO:-0400
TZNAME:EDT
DTSTART:20250309T070000
END:DAYLIGHT
BEGIN:STANDARD
TZOFFSETFROM:-0400
TZOFFSETTO:-0500
TZNAME:EST
DTSTART:20251102T060000
END:STANDARD
BEGIN:DAYLIGHT
TZOFFSETFROM:-0500
TZOFFSETTO:-0400
TZNAME:EDT
DTSTART:20260308T070000
END:DAYLIGHT
BEGIN:STANDARD
TZOFFSETFROM:-0400
TZOFFSETTO:-0500
TZNAME:EST
DTSTART:20261101T060000
END:STANDARD
END:VTIMEZONE
BEGIN:VEVENT
DTSTART;TZID=America/Toronto:20251002T113000
DTEND;TZID=America/Toronto:20251002T150000
DTSTAMP:20260420T094505
CREATED:20250910T130510Z
LAST-MODIFIED:20250930T133103Z
UID:10002408-1759404600-1759417200@veq.ca
SUMMARY:Out & About: Apple Picking in Orleans Island
DESCRIPTION:Out & About: Apple Picking in Orleans Island\nJoin us for an apple-picking trip to Orleans Island. Bring your own reusable bag for your apples. This outing involves walking on uneven terrain.  \n\nDates: RESCHEDULED Thursday\, October 2nd \nLocation: Cidrerie Verger Bilodeau\n \nDeparting from Jeffery Hale around 11:30 a.m. (exact time to be confirmed)⏰ Returning around 3:00 p.m. \n\nPlease bring a reusable bag for your apples. They also sell their own reusable bags for 2$. \n1.35$ per pound of apples picked. They only take cash. \n\nTo sign up or for more info:lea.bureau@veq.ca418-683-2366 ext. 221 \nSpots are limited—please let us know if you’d like to join us!
URL:https://veq.ca/event/out-about-apple-picking-in-orleans-island/
LOCATION:Ile d’Orléans\, Quebec\, Canada
CATEGORIES:Activities for Seniors
ORGANIZER;CN="L%C3%A9a Bureau":MAILTO:lea.bureau@veq.ca
END:VEVENT
BEGIN:VEVENT
DTSTART;TZID=America/Toronto:20250923T113000
DTEND;TZID=America/Toronto:20250923T150000
DTSTAMP:20260420T094505
CREATED:20250922T121844Z
LAST-MODIFIED:20250922T121954Z
UID:10002394-1758627000-1758639600@veq.ca
SUMMARY:DATE CHANGE - Out & About: Apple Picking in Orleans Island
DESCRIPTION:Out & About: Apple Picking in Orleans Island\nJoin us for an apple-picking trip to Orleans Island. Bring your own reusable bag for your apples. This outing involves walking on uneven terrain.  \n\nDate changed from Tuesday\, September 23rd to Thursday\, September 25th \nDates: Tuesday\, September 23rd & Thursday\, September 25th \nLocation: Cidrerie Verger Bilodeau\n \nDeparting from Jeffery Hale around 11:30 a.m. (exact time to be confirmed)⏰ Returning around 3:00 p.m. \n\nPlease bring a reusable bag for your apples. They also sell their own reusable bags for 2$. \n1.35$ per pound of apples picked. They only take cash. \n\nTo sign up or for more info:lea.bureau@veq.ca418-683-2366 ext. 221 \nSpots are limited—please let us know if you’d like to join us!
URL:https://veq.ca/event/out-about-apple-picking-in-orleans-island-2/
LOCATION:Ile d’Orléans\, Quebec\, Canada
CATEGORIES:Activities for Seniors
ORGANIZER;CN="L%C3%A9a Bureau":MAILTO:lea.bureau@veq.ca
END:VEVENT
BEGIN:VEVENT
DTSTART;TZID=America/Toronto:20250911T113000
DTEND;TZID=America/Toronto:20250911T160000
DTSTAMP:20260420T094505
CREATED:20250829T135752Z
LAST-MODIFIED:20250829T135752Z
UID:10002382-1757590200-1757606400@veq.ca
SUMMARY:Out & About - Apple Picking on the Ile d'Orleans (NP)
DESCRIPTION:  \n  \n️Out & About: Apple Picking\nJoin us for a sweet summer adventure! Spend a relaxing day in the sunshine picking fresh\, juicy apples straight from the field. Enjoy the fresh air\, good company\, and leave with a bag of delicious apples to take home! \n\nDateThursday September 11th \nTime11:45 AM – 3:45 PM \n\nPlease note that this activity will involve a good amount of walking on uneven terrain. \n\nTo sign up or for more info:david.zhu@veq.ca \n418-683-2366 ext. 228 \nLet us know if you’d like to join—spaces are limited! \nCost: The cost per bag is around $5\, please bring extra money if you’d like to pick more than one bag!
URL:https://veq.ca/event/out-about-apple-picking-on-the-ile-dorleans-np/
LOCATION:Ile d’Orléans\, Quebec\, Canada
CATEGORIES:Activities for Seniors
ORGANIZER;CN="David Zhu":MAILTO:david.zhu@veq.ca
END:VEVENT
BEGIN:VEVENT
DTSTART;TZID=America/Toronto:20220817T144500
DTEND;TZID=America/Toronto:20220817T183000
DTSTAMP:20260420T094505
CREATED:20250414T174923Z
LAST-MODIFIED:20250414T174923Z
UID:10000023-1660747500-1660761000@veq.ca
SUMMARY:Out & About:  Visit to the Ile d’Orléans
DESCRIPTION:VEQ’s Out & About invites you to hop on a bus and visit the beautiful and quaint Ile d’Orléans – We will visit Lavander fields (with gift shop)\, stop by a Farmer’s market and have lunch at a local restaurant — or packing a lunch is an option as well  (10:30 am to 2:30 pm)
URL:https://veq.ca/event/out-about-visit-to-the-ile-dorleans/
LOCATION:Ile d’Orléans\, Quebec\, Canada
ORGANIZER;CN="Dominique Paddack":MAILTO:dominique.paddack@veq.ca
END:VEVENT
END:VCALENDAR