BEGIN:VCALENDAR
VERSION:2.0
PRODID:-//Voice of English-speaking Québec - ECPv6.15.17.1//NONSGML v1.0//EN
CALSCALE:GREGORIAN
METHOD:PUBLISH
X-ORIGINAL-URL:https://veq.ca
X-WR-CALDESC:Events for Voice of English-speaking Québec
REFRESH-INTERVAL;VALUE=DURATION:PT1H
X-Robots-Tag:noindex
X-PUBLISHED-TTL:PT1H
BEGIN:VTIMEZONE
TZID:America/Toronto
BEGIN:DAYLIGHT
TZOFFSETFROM:-0500
TZOFFSETTO:-0400
TZNAME:EDT
DTSTART:20240310T070000
END:DAYLIGHT
BEGIN:STANDARD
TZOFFSETFROM:-0400
TZOFFSETTO:-0500
TZNAME:EST
DTSTART:20241103T060000
END:STANDARD
BEGIN:DAYLIGHT
TZOFFSETFROM:-0500
TZOFFSETTO:-0400
TZNAME:EDT
DTSTART:20250309T070000
END:DAYLIGHT
BEGIN:STANDARD
TZOFFSETFROM:-0400
TZOFFSETTO:-0500
TZNAME:EST
DTSTART:20251102T060000
END:STANDARD
BEGIN:DAYLIGHT
TZOFFSETFROM:-0500
TZOFFSETTO:-0400
TZNAME:EDT
DTSTART:20260308T070000
END:DAYLIGHT
BEGIN:STANDARD
TZOFFSETFROM:-0400
TZOFFSETTO:-0500
TZNAME:EST
DTSTART:20261101T060000
END:STANDARD
END:VTIMEZONE
BEGIN:VEVENT
DTSTART;TZID=America/Toronto:20250117T160000
DTEND;TZID=America/Toronto:20250117T193000
DTSTAMP:20260424T153343
CREATED:20250414T123758Z
LAST-MODIFIED:20250414T123758Z
UID:10000128-1737129600-1737142200@veq.ca
SUMMARY:Out & About: Bad Art Museum
DESCRIPTION:🎨🖌️ Discover the “Bad Art” Exhibit at EXMURO! 🖌️🎨 \nJoin us in January for a fun\, unconventional outing to the “Bad Art” exhibit at EXMURO! Step into a world of quirky\, offbeat pieces that redefine creativity and inspire a fresh perspective on art. Perfect for anyone looking to enjoy art with a playful twist! \n📅 East Group: Wednesday\, January 17\n📅 West Group: Wednesday\, January 31\n🕒 Time: 11:00 am – 2:30 pm \nGet ready to laugh\, reflect\, and enjoy this one-of-a-kind art experience! Reserve your spot now!
URL:https://veq.ca/event/out-about-bad-art-museum/
LOCATION:EXMURO\, 27 Rue Notre-Dame\, Québec City\, Quebec\, G1K 4E9\, Canada
ORGANIZER;CN="Ariel Blouin":MAILTO:maria.hoyt@veq.ca
END:VEVENT
END:VCALENDAR