BEGIN:VCALENDAR
VERSION:2.0
PRODID:-//Voice of English-speaking Québec - ECPv6.15.17.1//NONSGML v1.0//EN
CALSCALE:GREGORIAN
METHOD:PUBLISH
X-WR-CALNAME:Voice of English-speaking Québec
X-ORIGINAL-URL:https://veq.ca
X-WR-CALDESC:Events for Voice of English-speaking Québec
REFRESH-INTERVAL;VALUE=DURATION:PT1H
X-Robots-Tag:noindex
X-PUBLISHED-TTL:PT1H
BEGIN:VTIMEZONE
TZID:America/Toronto
BEGIN:DAYLIGHT
TZOFFSETFROM:-0500
TZOFFSETTO:-0400
TZNAME:EDT
DTSTART:20240310T070000
END:DAYLIGHT
BEGIN:STANDARD
TZOFFSETFROM:-0400
TZOFFSETTO:-0500
TZNAME:EST
DTSTART:20241103T060000
END:STANDARD
BEGIN:DAYLIGHT
TZOFFSETFROM:-0500
TZOFFSETTO:-0400
TZNAME:EDT
DTSTART:20250309T070000
END:DAYLIGHT
BEGIN:STANDARD
TZOFFSETFROM:-0400
TZOFFSETTO:-0500
TZNAME:EST
DTSTART:20251102T060000
END:STANDARD
BEGIN:DAYLIGHT
TZOFFSETFROM:-0500
TZOFFSETTO:-0400
TZNAME:EDT
DTSTART:20260308T070000
END:DAYLIGHT
BEGIN:STANDARD
TZOFFSETFROM:-0400
TZOFFSETTO:-0500
TZNAME:EST
DTSTART:20261101T060000
END:STANDARD
END:VTIMEZONE
BEGIN:VEVENT
DTSTART;TZID=America/Toronto:20250603T123000
DTEND;TZID=America/Toronto:20250603T143000
DTSTAMP:20260423T014146
CREATED:20250521T152412Z
LAST-MODIFIED:20250528T135655Z
UID:10001702-1748953800-1748961000@veq.ca
SUMMARY:Out & About: Ice Cream Social at Cap-Rouge
DESCRIPTION:Out & About Ice Cream Social at Chocolat Favori – Cap-RougeTreat yourself to something sweet with great company! \nOn Tuesday\, June 3\, we’re heading to Chocolat Favori in Cap-Rouge for an Ice Cream Social! We’ll enjoy delicious treats and soak up the sun on their beautiful outdoor terrace. It’s the perfect way to connect\, relax\, and celebrate the warmer days ahead. \nDate: Tuesday\, June 3Time: 12:30 PM – 2:30 PMLocation: Chocolat Favori\, Cap-RougeWho: For participants aged 50+ \nRSVP with Ariel at maria.hoyt@veq.ca \nJoin us for a scoop (or two) of fun! ☀️
URL:https://veq.ca/event/out-about-maison-des-jesuite-tour/
LOCATION:Chocolat Favoris\, 1480 Rue Provancher\, Québec\, QC\, G1Y 1S2\, Canada
CATEGORIES:Activities for Seniors
ORGANIZER;CN="Ariel Blouin":MAILTO:maria.hoyt@veq.ca
END:VEVENT
END:VCALENDAR