BEGIN:VCALENDAR
VERSION:2.0
PRODID:-//Voice of English-speaking Québec - ECPv6.15.17.1//NONSGML v1.0//EN
CALSCALE:GREGORIAN
METHOD:PUBLISH
X-WR-CALNAME:Voice of English-speaking Québec
X-ORIGINAL-URL:https://veq.ca
X-WR-CALDESC:Events for Voice of English-speaking Québec
REFRESH-INTERVAL;VALUE=DURATION:PT1H
X-Robots-Tag:noindex
X-PUBLISHED-TTL:PT1H
BEGIN:VTIMEZONE
TZID:America/Toronto
BEGIN:DAYLIGHT
TZOFFSETFROM:-0500
TZOFFSETTO:-0400
TZNAME:EDT
DTSTART:20240310T070000
END:DAYLIGHT
BEGIN:STANDARD
TZOFFSETFROM:-0400
TZOFFSETTO:-0500
TZNAME:EST
DTSTART:20241103T060000
END:STANDARD
BEGIN:DAYLIGHT
TZOFFSETFROM:-0500
TZOFFSETTO:-0400
TZNAME:EDT
DTSTART:20250309T070000
END:DAYLIGHT
BEGIN:STANDARD
TZOFFSETFROM:-0400
TZOFFSETTO:-0500
TZNAME:EST
DTSTART:20251102T060000
END:STANDARD
BEGIN:DAYLIGHT
TZOFFSETFROM:-0500
TZOFFSETTO:-0400
TZNAME:EDT
DTSTART:20260308T070000
END:DAYLIGHT
BEGIN:STANDARD
TZOFFSETFROM:-0400
TZOFFSETTO:-0500
TZNAME:EST
DTSTART:20261101T060000
END:STANDARD
END:VTIMEZONE
BEGIN:VEVENT
DTSTART;TZID=America/Toronto:20251010T093000
DTEND;TZID=America/Toronto:20251010T150000
DTSTAMP:20260423T045622
CREATED:20250924T183337Z
LAST-MODIFIED:20250926T125715Z
UID:10002409-1760088600-1760108400@veq.ca
SUMMARY:Out & About: Cap-Tourmente - Snow Geese Sightseeing
DESCRIPTION:  \nOut & About: Cap-Tourmente – Snow Geese Sightseeing\nJoin us on this beautiful walk in Cap-Tourmente\, an area renowned for the snow geese gathering at the site by the tens of thousands during migration. \n\nDates: Friday\, October 10th 2025 \nLocation: Cap-Tourmente\n \nPick-up Times (please select one of the three options) \n\nJeffery Hale Wellness Centre: 9:30 a.m.\nMcGreevy Manor: 9:45 a.m.\nPlace D’Youville: 10:00 a.m.\n\n⏰ Returning between 2:00 and 3:00 p.m. \n\nThe walk will be 1\,4km on a wooden path. Please bring a cold lunch with you. \nLéa will collect the 4$ admission fee upon entering the bus. \n\nTo sign up or for more info:lea.bureau@veq.ca418-683-2366 ext. 221 \nSpots are limited—please let us know if you’d like to join us!
URL:https://veq.ca/event/out-about-cap-tourmente-snow-geese-sightseeing/
LOCATION:Cap-Tourmente\, 570 Chem. du Cap Tourmente\, Saint-Joachim\, QC\, G0A 3X0\, Canada
CATEGORIES:Activities for Seniors
ORGANIZER;CN="L%C3%A9a Bureau":MAILTO:lea.bureau@veq.ca
END:VEVENT
END:VCALENDAR