BEGIN:VCALENDAR
VERSION:2.0
PRODID:-//Voice of English-speaking Québec - ECPv6.15.17.1//NONSGML v1.0//EN
CALSCALE:GREGORIAN
METHOD:PUBLISH
X-WR-CALNAME:Voice of English-speaking Québec
X-ORIGINAL-URL:https://veq.ca
X-WR-CALDESC:Events for Voice of English-speaking Québec
REFRESH-INTERVAL;VALUE=DURATION:PT1H
X-Robots-Tag:noindex
X-PUBLISHED-TTL:PT1H
BEGIN:VTIMEZONE
TZID:America/Toronto
BEGIN:DAYLIGHT
TZOFFSETFROM:-0500
TZOFFSETTO:-0400
TZNAME:EDT
DTSTART:20240310T070000
END:DAYLIGHT
BEGIN:STANDARD
TZOFFSETFROM:-0400
TZOFFSETTO:-0500
TZNAME:EST
DTSTART:20241103T060000
END:STANDARD
BEGIN:DAYLIGHT
TZOFFSETFROM:-0500
TZOFFSETTO:-0400
TZNAME:EDT
DTSTART:20250309T070000
END:DAYLIGHT
BEGIN:STANDARD
TZOFFSETFROM:-0400
TZOFFSETTO:-0500
TZNAME:EST
DTSTART:20251102T060000
END:STANDARD
BEGIN:DAYLIGHT
TZOFFSETFROM:-0500
TZOFFSETTO:-0400
TZNAME:EDT
DTSTART:20260308T070000
END:DAYLIGHT
BEGIN:STANDARD
TZOFFSETFROM:-0400
TZOFFSETTO:-0500
TZNAME:EST
DTSTART:20261101T060000
END:STANDARD
END:VTIMEZONE
BEGIN:VEVENT
DTSTART;TZID=America/Toronto:20250627T100000
DTEND;TZID=America/Toronto:20250627T140000
DTSTAMP:20260422T222451
CREATED:20250528T142025Z
LAST-MODIFIED:20250528T142025Z
UID:10001710-1751018400-1751032800@veq.ca
SUMMARY:Out and About: Brunch and Botanicals
DESCRIPTION:Out & About: Brunch & BotanicalsGood food and gorgeous blooms—what more could you want? \nJoin us for a delightful outing as we enjoy brunch at Ben & Florentine\, followed by a peaceful stroll through the stunning Jardin Botanique Roger-Van den Hende. It’s the perfect mix of tasty bites and tranquil beauty! \n Dates: Tuesday\, June 24 & Thursday\, June 26 Time: 10:00 AM – 2:00 PM️ Brunch: Ben & Florentine Stroll: Jardin Botanique Roger-Van den Hende Who: For participants aged 50+ \n RSVP with Ariel at  maria.hoyt@veq.ca \nLet’s brunch\, bloom\, and breathe in summer together! ✨
URL:https://veq.ca/event/out-and-about-brunch-and-botanicals/2025-06-27/
LOCATION:Botanicals\, 2480 Bd Hochelaga\, Québec\, QC\, G1V 0A6\, Canada
CATEGORIES:Activities for Seniors
END:VEVENT
BEGIN:VEVENT
DTSTART;TZID=America/Toronto:20250624T100000
DTEND;TZID=America/Toronto:20250624T140000
DTSTAMP:20260422T222451
CREATED:20250528T142025Z
LAST-MODIFIED:20250528T142025Z
UID:10001709-1750759200-1750773600@veq.ca
SUMMARY:Out and About: Brunch and Botanicals
DESCRIPTION:Out & About: Brunch & BotanicalsGood food and gorgeous blooms—what more could you want? \nJoin us for a delightful outing as we enjoy brunch at Ben & Florentine\, followed by a peaceful stroll through the stunning Jardin Botanique Roger-Van den Hende. It’s the perfect mix of tasty bites and tranquil beauty! \n Dates: Tuesday\, June 24 & Thursday\, June 26 Time: 10:00 AM – 2:00 PM️ Brunch: Ben & Florentine Stroll: Jardin Botanique Roger-Van den Hende Who: For participants aged 50+ \n RSVP with Ariel at  maria.hoyt@veq.ca \nLet’s brunch\, bloom\, and breathe in summer together! ✨
URL:https://veq.ca/event/out-and-about-brunch-and-botanicals/2025-06-24/
LOCATION:Botanicals\, 2480 Bd Hochelaga\, Québec\, QC\, G1V 0A6\, Canada
CATEGORIES:Activities for Seniors
END:VEVENT
END:VCALENDAR