BEGIN:VCALENDAR
VERSION:2.0
PRODID:-//Voice of English-speaking Québec - ECPv6.15.17.1//NONSGML v1.0//EN
CALSCALE:GREGORIAN
METHOD:PUBLISH
X-ORIGINAL-URL:https://veq.ca
X-WR-CALDESC:Events for Voice of English-speaking Québec
REFRESH-INTERVAL;VALUE=DURATION:PT1H
X-Robots-Tag:noindex
X-PUBLISHED-TTL:PT1H
BEGIN:VTIMEZONE
TZID:America/Toronto
BEGIN:DAYLIGHT
TZOFFSETFROM:-0500
TZOFFSETTO:-0400
TZNAME:EDT
DTSTART:20210314T070000
END:DAYLIGHT
BEGIN:STANDARD
TZOFFSETFROM:-0400
TZOFFSETTO:-0500
TZNAME:EST
DTSTART:20211107T060000
END:STANDARD
BEGIN:DAYLIGHT
TZOFFSETFROM:-0500
TZOFFSETTO:-0400
TZNAME:EDT
DTSTART:20220313T070000
END:DAYLIGHT
BEGIN:STANDARD
TZOFFSETFROM:-0400
TZOFFSETTO:-0500
TZNAME:EST
DTSTART:20221106T060000
END:STANDARD
BEGIN:DAYLIGHT
TZOFFSETFROM:-0500
TZOFFSETTO:-0400
TZNAME:EDT
DTSTART:20230312T070000
END:DAYLIGHT
BEGIN:STANDARD
TZOFFSETFROM:-0400
TZOFFSETTO:-0500
TZNAME:EST
DTSTART:20231105T060000
END:STANDARD
BEGIN:DAYLIGHT
TZOFFSETFROM:-0500
TZOFFSETTO:-0400
TZNAME:EDT
DTSTART:20240310T070000
END:DAYLIGHT
BEGIN:STANDARD
TZOFFSETFROM:-0400
TZOFFSETTO:-0500
TZNAME:EST
DTSTART:20241103T060000
END:STANDARD
BEGIN:DAYLIGHT
TZOFFSETFROM:-0500
TZOFFSETTO:-0400
TZNAME:EDT
DTSTART:20250309T070000
END:DAYLIGHT
BEGIN:STANDARD
TZOFFSETFROM:-0400
TZOFFSETTO:-0500
TZNAME:EST
DTSTART:20251102T060000
END:STANDARD
BEGIN:DAYLIGHT
TZOFFSETFROM:-0500
TZOFFSETTO:-0400
TZNAME:EDT
DTSTART:20260308T070000
END:DAYLIGHT
BEGIN:STANDARD
TZOFFSETFROM:-0400
TZOFFSETTO:-0500
TZNAME:EST
DTSTART:20261101T060000
END:STANDARD
END:VTIMEZONE
BEGIN:VEVENT
DTSTART;TZID=America/Toronto:20250912T093000
DTEND;TZID=America/Toronto:20250912T143000
DTSTAMP:20260422T114532
CREATED:20250908T160602Z
LAST-MODIFIED:20250908T160604Z
UID:10002280-1757669400-1757687400@veq.ca
SUMMARY:Out & About: Lunch & Atelier Paré
DESCRIPTION:  \nOut & About: Lunch at Le Marie Beaupré and visit to Atelier Paré\nJoin us for an adventure to Sainte-Anne-de-Beaupré\, where we’ll stop for a tasty lunch at Le Marie Beaupré then visit the wood sculpting economuseum at Atelier Paré. \n\nDate: Friday\, September 12th \nLocation: Sainte-Anne-de-Beaupré \nDeparting from Jeffery Hale around 9:30 a.m. (exact time to be confirmed)⏰ Returning around 2:30 p.m. \nCost: between 15 to 20$ + tx. for the lunch and a 5$ entry fee to the museum \n\nPlease bring the 5$ entry fee to the museum in cash. Léa will collect the money upon entering the bus. \n\nTo sign up or for more info:lea.bureau@veq.ca418-683-2366 ext. 221 \nSpots are limited—please let us know if you’d like to join us!
URL:https://veq.ca/event/out-about-lunch-atelier-pare-2-3/
LOCATION:Atelier Paré\, 9269 Ave Royale\, Sainte-Anne-de-Beaupré\, Quebec\, G0A 3C0\, Canada
CATEGORIES:Activities for Seniors
ORGANIZER;CN="L%C3%A9a Bureau":MAILTO:lea.bureau@veq.ca
END:VEVENT
BEGIN:VEVENT
DTSTART;TZID=America/Toronto:20250909T093000
DTEND;TZID=America/Toronto:20250909T143000
DTSTAMP:20260422T114532
CREATED:20250908T160258Z
LAST-MODIFIED:20250908T160434Z
UID:10002279-1757410200-1757428200@veq.ca
SUMMARY:DATE CHANGE - Out & About: Lunch & Atelier Paré
DESCRIPTION:  \nOut & About: Lunch at Le Marie Beaupré and visit to Atelier Paré\nDate changed from Tuesday\, September 9th to Friday\, September 12th \nJoin us for an adventure to Sainte-Anne-de-Beaupré\, where we’ll stop for a tasty lunch at Le Marie Beaupré then visit the wood sculpting economuseum at Atelier Paré. \n\nDate: Friday\, September 12th \nLocation: Sainte-Anne-de-Beaupré \nDeparting from Jeffery Hale around 9:30 a.m. (exact time to be confirmed)⏰ Returning around 2:30 p.m. \nCost: between 15 to 20$ + tx. for the lunch and a 5$ entry fee to the museum \n\nPlease bring the 5$ entry fee to the museum in cash. Léa will collect the money upon entering the bus. \n\nTo sign up or for more info:lea.bureau@veq.ca418-683-2366 ext. 221 \nSpots are limited—please let us know if you’d like to join us!
URL:https://veq.ca/event/out-about-lunch-atelier-pare-2-2/
LOCATION:Atelier Paré\, 9269 Ave Royale\, Sainte-Anne-de-Beaupré\, Quebec\, G0A 3C0\, Canada
CATEGORIES:Activities for Seniors
ORGANIZER;CN="L%C3%A9a Bureau":MAILTO:lea.bureau@veq.ca
END:VEVENT
BEGIN:VEVENT
DTSTART;TZID=America/Toronto:20220620T133000
DTEND;TZID=America/Toronto:20220620T184500
DTSTAMP:20260422T114532
CREATED:20250414T174958Z
LAST-MODIFIED:20250414T174958Z
UID:10000874-1655731800-1655750700@veq.ca
SUMMARY:Out & About: Atelier Pare and Lunch (Côte de Beaupré)
DESCRIPTION:Out & About invites English-speaking “50+ers” to hop on the bus on Monday June 20th as we visit the wood sculplting museum of the Atelier Paré\, and listen to the tales and local legends of the past. After the visit\, we will go for lunch at a local restaurant. \nMuseum entry fee: 5$ \nBus pick up ( FREE): \nTo book your spot\, contact Dominique at 418- 683-2366 x 227 or dominique.paddack@veq.ca
URL:https://veq.ca/event/out-about-atelier-pare-and-lunch-cote-de-beaupre/
LOCATION:Atelier Paré\, 9269 Ave Royale\, Sainte-Anne-de-Beaupré\, Quebec\, G0A 3C0\, Canada
ORGANIZER;CN="Dominique Paddack":MAILTO:dominique.paddack@veq.ca
END:VEVENT
BEGIN:VEVENT
DTSTART;TZID=America/Toronto:20220617T133000
DTEND;TZID=America/Toronto:20220617T184500
DTSTAMP:20260422T114532
CREATED:20250414T175007Z
LAST-MODIFIED:20250414T175007Z
UID:10000877-1655472600-1655491500@veq.ca
SUMMARY:Out & About: Atelier Pare and Lunch (Côte de Beaupré)
DESCRIPTION:Out & About invites English-speaking “50+ers” to hop on the bus on Friday June 17th as we visit the wood sculpting museum of the Atelier Paré\, and listen the tales and local legends of the past. After the visit\, we will go for lunch at a local restaurant. \nMuseum entry fee: 5$ \nBus pick up ( FREE) \nTo book your spot\, contact Dominique at 418- 683-2366 x 227 or dominique.paddack@veq.ca
URL:https://veq.ca/event/out-about-atelier-pare-and-lunch-cote-de-beaupre-2/
LOCATION:Atelier Paré\, 9269 Ave Royale\, Sainte-Anne-de-Beaupré\, Quebec\, G0A 3C0\, Canada
ORGANIZER;CN="Dominique Paddack":MAILTO:dominique.paddack@veq.ca
END:VEVENT
BEGIN:VEVENT
DTSTART;TZID=America/Toronto:20220516T134500
DTEND;TZID=America/Toronto:20220516T180000
DTSTAMP:20260422T114532
CREATED:20250414T175404Z
LAST-MODIFIED:20250414T175404Z
UID:10000899-1652708700-1652724000@veq.ca
SUMMARY:POSTPONED: Out & About: Atelier Paré & lunch (Côte de Beaupré)
DESCRIPTION:VEQ invites English-speaking residents of Quebec City aged 50+  to hop on the bus as we go to the “Atelier Paré” in Ste-Anne-de-Beaupré to visit their wood sculpture workshop and museum\, \nWe will be treated to a tour and traditional legends. Then we will hop on the bus again for lunch at a local restaurant (participants pay for own lunch or bring a sandwich!) \nEntry fee to museum is 5$ — an additional 2$ for access to garden. \nPlease ensure you have CASH for museum visit. \nTo book your spot on the bus or for more information\, contact Dominique Paddack at 418-683-2366 x 228 or dominique.paddack@veq.ca
URL:https://veq.ca/event/postponed-out-about-atelier-pare-lunch-cote-de-beaupre/
LOCATION:Atelier Paré\, 9269 Ave Royale\, Sainte-Anne-de-Beaupré\, Quebec\, G0A 3C0\, Canada
ORGANIZER;CN="Dominique Paddack":MAILTO:dominique.paddack@veq.ca
END:VEVENT
BEGIN:VEVENT
DTSTART;TZID=America/Toronto:20220516T133000
DTEND;TZID=America/Toronto:20220516T181500
DTSTAMP:20260422T114532
CREATED:20250414T175410Z
LAST-MODIFIED:20250414T175410Z
UID:10000900-1652707800-1652724900@veq.ca
SUMMARY:POSTPONED Northern Perimeter Out and About\, Atelier Paré
DESCRIPTION:Voice of English-speaking Quebec invites people aged 50+ living in the Northern Perimeter of the city to hop on the bus as we go to the wood sculpture workshop and museum\, Atelier Paré. \nWe will be treated to a tour and traditional legends. Then we will hop on the bus again for lunch at a local restaurant. \nThe entry fee to the museum is 5$\, an additional 2$ for access to the garden. Please ensure you have cash. \nPick up by bus is free. Departure time from Shannon ( 73 chemin de Gosford) at 9:30 a.m \nDeparture time from Saint-Gabriel-de-Valcartier ( 2215 boul Valcartier) at 9:50 a.m. \nTo book your spot on the bus or for more information\, contact Catherine Baboudjian at 418-683-2366 x 228 or catherine.baboudjian@veq.ca \n  \n 
URL:https://veq.ca/event/postponed-northern-perimeter-out-and-about-atelier-pare/
LOCATION:Atelier Paré\, 9269 Ave Royale\, Sainte-Anne-de-Beaupré\, Quebec\, G0A 3C0\, Canada
ORGANIZER;CN="Catherine Baboudjian":MAILTO:catherine.baboudjian@veq.ca
END:VEVENT
END:VCALENDAR