BEGIN:VCALENDAR
VERSION:2.0
PRODID:-//Voice of English-speaking Québec - ECPv6.15.17.1//NONSGML v1.0//EN
CALSCALE:GREGORIAN
METHOD:PUBLISH
X-WR-CALNAME:Voice of English-speaking Québec
X-ORIGINAL-URL:https://veq.ca
X-WR-CALDESC:Events for Voice of English-speaking Québec
REFRESH-INTERVAL;VALUE=DURATION:PT1H
X-Robots-Tag:noindex
X-PUBLISHED-TTL:PT1H
BEGIN:VTIMEZONE
TZID:America/Toronto
BEGIN:DAYLIGHT
TZOFFSETFROM:-0500
TZOFFSETTO:-0400
TZNAME:EDT
DTSTART:20240310T070000
END:DAYLIGHT
BEGIN:STANDARD
TZOFFSETFROM:-0400
TZOFFSETTO:-0500
TZNAME:EST
DTSTART:20241103T060000
END:STANDARD
BEGIN:DAYLIGHT
TZOFFSETFROM:-0500
TZOFFSETTO:-0400
TZNAME:EDT
DTSTART:20250309T070000
END:DAYLIGHT
BEGIN:STANDARD
TZOFFSETFROM:-0400
TZOFFSETTO:-0500
TZNAME:EST
DTSTART:20251102T060000
END:STANDARD
BEGIN:DAYLIGHT
TZOFFSETFROM:-0500
TZOFFSETTO:-0400
TZNAME:EDT
DTSTART:20260308T070000
END:DAYLIGHT
BEGIN:STANDARD
TZOFFSETFROM:-0400
TZOFFSETTO:-0500
TZNAME:EST
DTSTART:20261101T060000
END:STANDARD
END:VTIMEZONE
BEGIN:VEVENT
DTSTART;TZID=America/Toronto:20250604T143000
DTEND;TZID=America/Toronto:20250604T153000
DTSTAMP:20260423T013419
CREATED:20250422T192239Z
LAST-MODIFIED:20250606T150007Z
UID:10001370-1749047400-1749051000@veq.ca
SUMMARY:Local Vocals
DESCRIPTION:Local Vocals Singing Ensemble – Join Us!Wednesdays | 2:30 PM – 3:30 PMTBD \nDo you love singing and learning new songs? Join the Local Vocals\, an English-language singing ensemble led by Choir Director Katharina Urbschat.We sing a vibrant mix of folk\, pop\, and classical songs—mainly in English\, with occasional tunes in German\, French\, and Latin. \nWhether you’re a seasoned singer or just starting\, you’re welcome to join us for musical fun and vocal exploration! \nFor more info\, contact: K.Urbschat@gmail.com
URL:https://veq.ca/event/local-vocals-2/2025-06-04/
LOCATION:Art Room – Jeffery Hale Pavillion\, 1270\, chemin Sainte-Foy\, Québec City\, Quebec\, G1S 2M5\, Canada
CATEGORIES:Events and Activities for All
ORGANIZER;CN="Katharina Urbschat":MAILTO:K.Urbschat@gmail.com
END:VEVENT
BEGIN:VEVENT
DTSTART;TZID=America/Toronto:20250528T143000
DTEND;TZID=America/Toronto:20250528T153000
DTSTAMP:20260423T013419
CREATED:20250422T192239Z
LAST-MODIFIED:20250606T150007Z
UID:10001369-1748442600-1748446200@veq.ca
SUMMARY:Local Vocals
DESCRIPTION:Local Vocals Singing Ensemble – Join Us!Wednesdays | 2:30 PM – 3:30 PMTBD \nDo you love singing and learning new songs? Join the Local Vocals\, an English-language singing ensemble led by Choir Director Katharina Urbschat.We sing a vibrant mix of folk\, pop\, and classical songs—mainly in English\, with occasional tunes in German\, French\, and Latin. \nWhether you’re a seasoned singer or just starting\, you’re welcome to join us for musical fun and vocal exploration! \nFor more info\, contact: K.Urbschat@gmail.com
URL:https://veq.ca/event/local-vocals-2/2025-05-28/
LOCATION:Art Room – Jeffery Hale Pavillion\, 1270\, chemin Sainte-Foy\, Québec City\, Quebec\, G1S 2M5\, Canada
CATEGORIES:Events and Activities for All
ORGANIZER;CN="Katharina Urbschat":MAILTO:K.Urbschat@gmail.com
END:VEVENT
BEGIN:VEVENT
DTSTART;TZID=America/Toronto:20250521T143000
DTEND;TZID=America/Toronto:20250521T153000
DTSTAMP:20260423T013419
CREATED:20250422T192239Z
LAST-MODIFIED:20250606T150007Z
UID:10001368-1747837800-1747841400@veq.ca
SUMMARY:Local Vocals
DESCRIPTION:Local Vocals Singing Ensemble – Join Us!Wednesdays | 2:30 PM – 3:30 PMTBD \nDo you love singing and learning new songs? Join the Local Vocals\, an English-language singing ensemble led by Choir Director Katharina Urbschat.We sing a vibrant mix of folk\, pop\, and classical songs—mainly in English\, with occasional tunes in German\, French\, and Latin. \nWhether you’re a seasoned singer or just starting\, you’re welcome to join us for musical fun and vocal exploration! \nFor more info\, contact: K.Urbschat@gmail.com
URL:https://veq.ca/event/local-vocals-2/2025-05-21/
LOCATION:Art Room – Jeffery Hale Pavillion\, 1270\, chemin Sainte-Foy\, Québec City\, Quebec\, G1S 2M5\, Canada
CATEGORIES:Events and Activities for All
ORGANIZER;CN="Katharina Urbschat":MAILTO:K.Urbschat@gmail.com
END:VEVENT
BEGIN:VEVENT
DTSTART;TZID=America/Toronto:20250514T143000
DTEND;TZID=America/Toronto:20250514T153000
DTSTAMP:20260423T013419
CREATED:20250422T192239Z
LAST-MODIFIED:20250606T150007Z
UID:10001367-1747233000-1747236600@veq.ca
SUMMARY:Local Vocals
DESCRIPTION:Local Vocals Singing Ensemble – Join Us!Wednesdays | 2:30 PM – 3:30 PMTBD \nDo you love singing and learning new songs? Join the Local Vocals\, an English-language singing ensemble led by Choir Director Katharina Urbschat.We sing a vibrant mix of folk\, pop\, and classical songs—mainly in English\, with occasional tunes in German\, French\, and Latin. \nWhether you’re a seasoned singer or just starting\, you’re welcome to join us for musical fun and vocal exploration! \nFor more info\, contact: K.Urbschat@gmail.com
URL:https://veq.ca/event/local-vocals-2/2025-05-14/
LOCATION:Art Room – Jeffery Hale Pavillion\, 1270\, chemin Sainte-Foy\, Québec City\, Quebec\, G1S 2M5\, Canada
CATEGORIES:Events and Activities for All
ORGANIZER;CN="Katharina Urbschat":MAILTO:K.Urbschat@gmail.com
END:VEVENT
BEGIN:VEVENT
DTSTART;TZID=America/Toronto:20250507T143000
DTEND;TZID=America/Toronto:20250507T153000
DTSTAMP:20260423T013419
CREATED:20250422T192239Z
LAST-MODIFIED:20250606T150007Z
UID:10001366-1746628200-1746631800@veq.ca
SUMMARY:Local Vocals
DESCRIPTION:Local Vocals Singing Ensemble – Join Us!Wednesdays | 2:30 PM – 3:30 PMTBD \nDo you love singing and learning new songs? Join the Local Vocals\, an English-language singing ensemble led by Choir Director Katharina Urbschat.We sing a vibrant mix of folk\, pop\, and classical songs—mainly in English\, with occasional tunes in German\, French\, and Latin. \nWhether you’re a seasoned singer or just starting\, you’re welcome to join us for musical fun and vocal exploration! \nFor more info\, contact: K.Urbschat@gmail.com
URL:https://veq.ca/event/local-vocals-2/2025-05-07/
LOCATION:Art Room – Jeffery Hale Pavillion\, 1270\, chemin Sainte-Foy\, Québec City\, Quebec\, G1S 2M5\, Canada
CATEGORIES:Events and Activities for All
ORGANIZER;CN="Katharina Urbschat":MAILTO:K.Urbschat@gmail.com
END:VEVENT
BEGIN:VEVENT
DTSTART;TZID=America/Toronto:20250430T143000
DTEND;TZID=America/Toronto:20250430T153000
DTSTAMP:20260423T013419
CREATED:20250422T192239Z
LAST-MODIFIED:20250606T150007Z
UID:10001365-1746023400-1746027000@veq.ca
SUMMARY:Local Vocals
DESCRIPTION:Local Vocals Singing Ensemble – Join Us!Wednesdays | 2:30 PM – 3:30 PMTBD \nDo you love singing and learning new songs? Join the Local Vocals\, an English-language singing ensemble led by Choir Director Katharina Urbschat.We sing a vibrant mix of folk\, pop\, and classical songs—mainly in English\, with occasional tunes in German\, French\, and Latin. \nWhether you’re a seasoned singer or just starting\, you’re welcome to join us for musical fun and vocal exploration! \nFor more info\, contact: K.Urbschat@gmail.com
URL:https://veq.ca/event/local-vocals-2/2025-04-30/
LOCATION:Art Room – Jeffery Hale Pavillion\, 1270\, chemin Sainte-Foy\, Québec City\, Quebec\, G1S 2M5\, Canada
CATEGORIES:Events and Activities for All
ORGANIZER;CN="Katharina Urbschat":MAILTO:K.Urbschat@gmail.com
END:VEVENT
BEGIN:VEVENT
DTSTART;TZID=America/Toronto:20250423T143000
DTEND;TZID=America/Toronto:20250423T153000
DTSTAMP:20260423T013419
CREATED:20250422T192239Z
LAST-MODIFIED:20250606T150007Z
UID:10001364-1745418600-1745422200@veq.ca
SUMMARY:Local Vocals
DESCRIPTION:Local Vocals Singing Ensemble – Join Us!Wednesdays | 2:30 PM – 3:30 PMTBD \nDo you love singing and learning new songs? Join the Local Vocals\, an English-language singing ensemble led by Choir Director Katharina Urbschat.We sing a vibrant mix of folk\, pop\, and classical songs—mainly in English\, with occasional tunes in German\, French\, and Latin. \nWhether you’re a seasoned singer or just starting\, you’re welcome to join us for musical fun and vocal exploration! \nFor more info\, contact: K.Urbschat@gmail.com
URL:https://veq.ca/event/local-vocals-2/2025-04-23/
LOCATION:Art Room – Jeffery Hale Pavillion\, 1270\, chemin Sainte-Foy\, Québec City\, Quebec\, G1S 2M5\, Canada
CATEGORIES:Events and Activities for All
ORGANIZER;CN="Katharina Urbschat":MAILTO:K.Urbschat@gmail.com
END:VEVENT
BEGIN:VEVENT
DTSTART;TZID=America/Toronto:20250416T143000
DTEND;TZID=America/Toronto:20250416T153000
DTSTAMP:20260423T013419
CREATED:20250422T192239Z
LAST-MODIFIED:20250606T150007Z
UID:10001363-1744813800-1744817400@veq.ca
SUMMARY:Local Vocals
DESCRIPTION:Local Vocals Singing Ensemble – Join Us!Wednesdays | 2:30 PM – 3:30 PMTBD \nDo you love singing and learning new songs? Join the Local Vocals\, an English-language singing ensemble led by Choir Director Katharina Urbschat.We sing a vibrant mix of folk\, pop\, and classical songs—mainly in English\, with occasional tunes in German\, French\, and Latin. \nWhether you’re a seasoned singer or just starting\, you’re welcome to join us for musical fun and vocal exploration! \nFor more info\, contact: K.Urbschat@gmail.com
URL:https://veq.ca/event/local-vocals-2/2025-04-16/
LOCATION:Art Room – Jeffery Hale Pavillion\, 1270\, chemin Sainte-Foy\, Québec City\, Quebec\, G1S 2M5\, Canada
CATEGORIES:Events and Activities for All
ORGANIZER;CN="Katharina Urbschat":MAILTO:K.Urbschat@gmail.com
END:VEVENT
BEGIN:VEVENT
DTSTART;TZID=America/Toronto:20250409T143000
DTEND;TZID=America/Toronto:20250409T153000
DTSTAMP:20260423T013419
CREATED:20250422T192239Z
LAST-MODIFIED:20250606T150007Z
UID:10001362-1744209000-1744212600@veq.ca
SUMMARY:Local Vocals
DESCRIPTION:Local Vocals Singing Ensemble – Join Us!Wednesdays | 2:30 PM – 3:30 PMTBD \nDo you love singing and learning new songs? Join the Local Vocals\, an English-language singing ensemble led by Choir Director Katharina Urbschat.We sing a vibrant mix of folk\, pop\, and classical songs—mainly in English\, with occasional tunes in German\, French\, and Latin. \nWhether you’re a seasoned singer or just starting\, you’re welcome to join us for musical fun and vocal exploration! \nFor more info\, contact: K.Urbschat@gmail.com
URL:https://veq.ca/event/local-vocals-2/2025-04-09/
LOCATION:Art Room – Jeffery Hale Pavillion\, 1270\, chemin Sainte-Foy\, Québec City\, Quebec\, G1S 2M5\, Canada
CATEGORIES:Events and Activities for All
ORGANIZER;CN="Katharina Urbschat":MAILTO:K.Urbschat@gmail.com
END:VEVENT
BEGIN:VEVENT
DTSTART;TZID=America/Toronto:20250402T143000
DTEND;TZID=America/Toronto:20250402T153000
DTSTAMP:20260423T013419
CREATED:20250422T192239Z
LAST-MODIFIED:20250606T150007Z
UID:10001361-1743604200-1743607800@veq.ca
SUMMARY:Local Vocals
DESCRIPTION:Local Vocals Singing Ensemble – Join Us!Wednesdays | 2:30 PM – 3:30 PMTBD \nDo you love singing and learning new songs? Join the Local Vocals\, an English-language singing ensemble led by Choir Director Katharina Urbschat.We sing a vibrant mix of folk\, pop\, and classical songs—mainly in English\, with occasional tunes in German\, French\, and Latin. \nWhether you’re a seasoned singer or just starting\, you’re welcome to join us for musical fun and vocal exploration! \nFor more info\, contact: K.Urbschat@gmail.com
URL:https://veq.ca/event/local-vocals-2/2025-04-02/
LOCATION:Art Room – Jeffery Hale Pavillion\, 1270\, chemin Sainte-Foy\, Québec City\, Quebec\, G1S 2M5\, Canada
CATEGORIES:Events and Activities for All
ORGANIZER;CN="Katharina Urbschat":MAILTO:K.Urbschat@gmail.com
END:VEVENT
BEGIN:VEVENT
DTSTART;TZID=America/Toronto:20250305T230000
DTEND;TZID=America/Toronto:20250306T003000
DTSTAMP:20260423T013419
CREATED:20250414T123542Z
LAST-MODIFIED:20250414T123542Z
UID:10000084-1741215600-1741221000@veq.ca
SUMMARY:Art & Soul Creative Sessions
DESCRIPTION:Art & Soul Creative Sessions! ️✨\nWe’re excited to announce the return of Art & Soul Creative Sessions! This 8-week creative journey will explore various artistic techniques\, from charcoal and colour theory to collage and print redesign. \nWhen? Every Wednesday night\, from 6:00 PM – 7:30 PMWhere? The Art Room at the Jeffery Hale PavillionDates: March 5 – April 23\n‍‍ Children are welcome but must be accompanied by a parent. \n \nJoin us for this inspiring\, hands-on experience and unleash your creativity! Spots are limited\, so sign up with Ariel at maria.hoyt@veq.ca today!
URL:https://veq.ca/event/art-soul-creative-sessions/
LOCATION:Art Room – Jeffery Hale Pavillion\, 1270\, chemin Sainte-Foy\, Québec City\, Quebec\, G1S 2M5\, Canada
CATEGORIES:Events and Activities for All
ORGANIZER;CN="Ariel Blouin":MAILTO:maria.hoyt@veq.ca
END:VEVENT
END:VCALENDAR