BEGIN:VCALENDAR
VERSION:2.0
PRODID:-//Voice of English-speaking Québec - ECPv6.15.17.1//NONSGML v1.0//EN
CALSCALE:GREGORIAN
METHOD:PUBLISH
X-ORIGINAL-URL:https://veq.ca
X-WR-CALDESC:Events for Voice of English-speaking Québec
REFRESH-INTERVAL;VALUE=DURATION:PT1H
X-Robots-Tag:noindex
X-PUBLISHED-TTL:PT1H
BEGIN:VTIMEZONE
TZID:America/Toronto
BEGIN:DAYLIGHT
TZOFFSETFROM:-0500
TZOFFSETTO:-0400
TZNAME:EDT
DTSTART:20240310T070000
END:DAYLIGHT
BEGIN:STANDARD
TZOFFSETFROM:-0400
TZOFFSETTO:-0500
TZNAME:EST
DTSTART:20241103T060000
END:STANDARD
BEGIN:DAYLIGHT
TZOFFSETFROM:-0500
TZOFFSETTO:-0400
TZNAME:EDT
DTSTART:20250309T070000
END:DAYLIGHT
BEGIN:STANDARD
TZOFFSETFROM:-0400
TZOFFSETTO:-0500
TZNAME:EST
DTSTART:20251102T060000
END:STANDARD
BEGIN:DAYLIGHT
TZOFFSETFROM:-0500
TZOFFSETTO:-0400
TZNAME:EDT
DTSTART:20260308T070000
END:DAYLIGHT
BEGIN:STANDARD
TZOFFSETFROM:-0400
TZOFFSETTO:-0500
TZNAME:EST
DTSTART:20261101T060000
END:STANDARD
END:VTIMEZONE
BEGIN:VEVENT
DTSTART;TZID=America/Toronto:20250531T133000
DTEND;TZID=America/Toronto:20250531T150000
DTSTAMP:20260423T013501
CREATED:20250509T161409Z
LAST-MODIFIED:20250509T161409Z
UID:10001700-1748698200-1748703600@veq.ca
SUMMARY:VEQ Earth Day-Part II (Anne's Garden in Shannon)
DESCRIPTION:“Earth Day – Part II” – Visit & Plant in Anne’s Garden! \nFor those who missed out on our Earth Day activities in April – some good green news! Earth Day II is back in Shannon-town! \nCome take a breath of fresh air\, relax\, plant and visit a beautiful garden with flowers and plants sprouting and abounding! \nWe’ll be planting vegetable and flower seedlings in Anne’s great beautiful garden. She will also share her expertise on gardening and answer all your questions – and more! Materials and seeds are provided for. \nOpen to all\, bring family or friends – and let the summer planting season begin! \n\nSAT 5/31 (1:30 pm-3:00 pm)\nLocation: @ “Anne’s Garden” (in Shannon) – see with Dominique for address when registering;\nRegistration: Contact Dominique at VEQ Shannon office/ tel. 418 683-2366 ext. 227 or dominique.paddack@veq.ca\n\nNB: In case of rain – will be postponed to another date/TBD
URL:https://veq.ca/event/veq-earth-day-part-ii-annes-garden-in-shannon/
LOCATION:Annes’s Garden (in Shannon)\, Shannon\, QC
CATEGORIES:Events and Activities for All
ORGANIZER;CN="Dominique Paddack":MAILTO:dominique.paddack@veq.ca
END:VEVENT
END:VCALENDAR