BEGIN:VCALENDAR
VERSION:2.0
PRODID:-//Voice of English-speaking Québec - ECPv6.15.17.1//NONSGML v1.0//EN
CALSCALE:GREGORIAN
METHOD:PUBLISH
X-WR-CALNAME:Voice of English-speaking Québec
X-ORIGINAL-URL:https://veq.ca
X-WR-CALDESC:Events for Voice of English-speaking Québec
REFRESH-INTERVAL;VALUE=DURATION:PT1H
X-Robots-Tag:noindex
X-PUBLISHED-TTL:PT1H
BEGIN:VTIMEZONE
TZID:America/Toronto
BEGIN:DAYLIGHT
TZOFFSETFROM:-0500
TZOFFSETTO:-0400
TZNAME:EDT
DTSTART:20220313T070000
END:DAYLIGHT
BEGIN:STANDARD
TZOFFSETFROM:-0400
TZOFFSETTO:-0500
TZNAME:EST
DTSTART:20221106T060000
END:STANDARD
BEGIN:DAYLIGHT
TZOFFSETFROM:-0500
TZOFFSETTO:-0400
TZNAME:EDT
DTSTART:20230312T070000
END:DAYLIGHT
BEGIN:STANDARD
TZOFFSETFROM:-0400
TZOFFSETTO:-0500
TZNAME:EST
DTSTART:20231105T060000
END:STANDARD
BEGIN:DAYLIGHT
TZOFFSETFROM:-0500
TZOFFSETTO:-0400
TZNAME:EDT
DTSTART:20240310T070000
END:DAYLIGHT
BEGIN:STANDARD
TZOFFSETFROM:-0400
TZOFFSETTO:-0500
TZNAME:EST
DTSTART:20241103T060000
END:STANDARD
BEGIN:DAYLIGHT
TZOFFSETFROM:-0500
TZOFFSETTO:-0400
TZNAME:EDT
DTSTART:20250309T070000
END:DAYLIGHT
BEGIN:STANDARD
TZOFFSETFROM:-0400
TZOFFSETTO:-0500
TZNAME:EST
DTSTART:20251102T060000
END:STANDARD
END:VTIMEZONE
BEGIN:VEVENT
DTSTART;TZID=America/Toronto:20240320T220000
DTEND;TZID=America/Toronto:20240321T000000
DTSTAMP:20260425T223659
CREATED:20250414T135444Z
LAST-MODIFIED:20250414T135444Z
UID:10000351-1710972000-1710979200@veq.ca
SUMMARY:Mastering Interview Questions Workshop (2nd Edition) with FORT Program
DESCRIPTION:Back by popular demand! You don’t want to miss this! \nAce your next job interview! Join VEQ in partnership with the FORT program for this interactive\, hands-on workshop. Led by experienced career counsellor Carole Hautcoeur. \nTogether\, we’ll explore: \n\nWays to structure your answers\nQuestions employers shouldn’t ask\nHow to answer difficult questions\n\nPre-registration required. \nTo register: https://forms.office.com/r/RVH8v1HBsc \nLight refreshments will be offered or bring your own snacks. \nLimited space available. Register today!
URL:https://veq.ca/event/mastering-interview-questions-workshop-2nd-edition-with-fort-program/
LOCATION:35e Régiment du Génie de Combat building\, 2630 Hochelaga Blvd\, Québec City\, Quebec\, G1V 0H2\, Canada
ORGANIZER;CN="Susanna Tang":MAILTO:susanna.tang@veq.ca
END:VEVENT
BEGIN:VEVENT
DTSTART;TZID=America/Toronto:20231115T230000
DTEND;TZID=America/Toronto:20231116T010000
DTSTAMP:20260425T223659
CREATED:20250414T160033Z
LAST-MODIFIED:20250414T160033Z
UID:10000499-1700089200-1700096400@veq.ca
SUMMARY:Mastering Interview Questions Workshop with FORT Program
DESCRIPTION:Ace your next job interview! Join VEQ in partnership with the FORT program for this interactive\, hands-on workshop. Led by experienced career counsellor Carole Hautcoeur. \nTogether\, we’ll explore: \n\nWays to structure your answers\nQuestions employers shouldn’t ask\nHow to answer difficult questions\n\nPre-registration required. \nTo register: https://forms.office.com/r/quUanBaC7w \nLight refreshments will be served. \nLimited space available. Register today!
URL:https://veq.ca/event/mastering-interview-questions-workshop-with-fort-program/
LOCATION:35e Régiment du Génie de Combat building\, 2630 Hochelaga Blvd\, Québec City\, Quebec\, G1V 0H2\, Canada
ORGANIZER;CN="Susanna Tang":MAILTO:susanna.tang@veq.ca
END:VEVENT
BEGIN:VEVENT
DTSTART;TZID=America/Toronto:20230523T170000
DTEND;TZID=America/Toronto:20230523T210000
DTSTAMP:20260425T223659
CREATED:20250414T171807Z
LAST-MODIFIED:20250414T171807Z
UID:10000647-1684861200-1684875600@veq.ca
SUMMARY:CV Clinic (FORT Program)
DESCRIPTION:Tailor your CV for your dream job! \nCome and have your CV reviewed in English by the professionals at the FORT Program. \nBy appointment only. First round of appointments sold out. Reserve your spot today!
URL:https://veq.ca/event/cv-clinic-fort-program/
LOCATION:35e Régiment du Génie de Combat building\, 2630 Hochelaga Blvd\, Québec City\, Quebec\, G1V 0H2\, Canada
END:VEVENT
END:VCALENDAR