BEGIN:VCALENDAR
VERSION:2.0
PRODID:-//Voice of English-speaking Québec - ECPv6.15.17.1//NONSGML v1.0//EN
CALSCALE:GREGORIAN
METHOD:PUBLISH
X-ORIGINAL-URL:https://veq.ca
X-WR-CALDESC:Events for Voice of English-speaking Québec
REFRESH-INTERVAL;VALUE=DURATION:PT1H
X-Robots-Tag:noindex
X-PUBLISHED-TTL:PT1H
BEGIN:VTIMEZONE
TZID:America/Toronto
BEGIN:DAYLIGHT
TZOFFSETFROM:-0500
TZOFFSETTO:-0400
TZNAME:EDT
DTSTART:20190310T070000
END:DAYLIGHT
BEGIN:STANDARD
TZOFFSETFROM:-0400
TZOFFSETTO:-0500
TZNAME:EST
DTSTART:20191103T060000
END:STANDARD
BEGIN:DAYLIGHT
TZOFFSETFROM:-0500
TZOFFSETTO:-0400
TZNAME:EDT
DTSTART:20200308T070000
END:DAYLIGHT
BEGIN:STANDARD
TZOFFSETFROM:-0400
TZOFFSETTO:-0500
TZNAME:EST
DTSTART:20201101T060000
END:STANDARD
BEGIN:DAYLIGHT
TZOFFSETFROM:-0500
TZOFFSETTO:-0400
TZNAME:EDT
DTSTART:20210314T070000
END:DAYLIGHT
BEGIN:STANDARD
TZOFFSETFROM:-0400
TZOFFSETTO:-0500
TZNAME:EST
DTSTART:20211107T060000
END:STANDARD
BEGIN:DAYLIGHT
TZOFFSETFROM:-0500
TZOFFSETTO:-0400
TZNAME:EDT
DTSTART:20220313T070000
END:DAYLIGHT
BEGIN:STANDARD
TZOFFSETFROM:-0400
TZOFFSETTO:-0500
TZNAME:EST
DTSTART:20221106T060000
END:STANDARD
BEGIN:DAYLIGHT
TZOFFSETFROM:-0500
TZOFFSETTO:-0400
TZNAME:EDT
DTSTART:20230312T070000
END:DAYLIGHT
BEGIN:STANDARD
TZOFFSETFROM:-0400
TZOFFSETTO:-0500
TZNAME:EST
DTSTART:20231105T060000
END:STANDARD
BEGIN:DAYLIGHT
TZOFFSETFROM:-0500
TZOFFSETTO:-0400
TZNAME:EDT
DTSTART:20240310T070000
END:DAYLIGHT
BEGIN:STANDARD
TZOFFSETFROM:-0400
TZOFFSETTO:-0500
TZNAME:EST
DTSTART:20241103T060000
END:STANDARD
BEGIN:DAYLIGHT
TZOFFSETFROM:-0500
TZOFFSETTO:-0400
TZNAME:EDT
DTSTART:20250309T070000
END:DAYLIGHT
BEGIN:STANDARD
TZOFFSETFROM:-0400
TZOFFSETTO:-0500
TZNAME:EST
DTSTART:20251102T060000
END:STANDARD
END:VTIMEZONE
BEGIN:VEVENT
DTSTART;TZID=America/Toronto:20240321T210000
DTEND;TZID=America/Toronto:20240321T230000
DTSTAMP:20260425T221916
CREATED:20250414T135243Z
LAST-MODIFIED:20250414T135243Z
UID:10000347-1711054800-1711062000@veq.ca
SUMMARY:Spring Fest 2024!
DESCRIPTION:An excuse to get social!\nDo you think winter is way too long?\nVEQ cordially invites you to bring the spirit of spring alive at a 5@7 at 3 Brasseurs Laurier on March 21. \nCome one\, come all!\nMeet and get to know the VEQ team. Hear about what we have been up to\, and get information on what we have in store for you next.\nNibbles and appetisers will be served (and complimentary). Drinks may be purchased on-site.\nBring your friends  \nPlease RSVP to Maria Hoyt at info@veq.ca or (418) 683-2366 ext. 221 by March 15. \nWe will be located on the Main Floor of the restaurant. See you there! \n 
URL:https://veq.ca/event/spring-fest-2024/
LOCATION:3 Brasseurs – Place Ste. Foy\, 2450 Bd Laurier\, Local G50\, Québec City\, Quebec\, G1V 2L1\, Canada
END:VEVENT
BEGIN:VEVENT
DTSTART;TZID=America/Toronto:20230322T210000
DTEND;TZID=America/Toronto:20230322T230000
DTSTAMP:20260425T221916
CREATED:20250414T173324Z
LAST-MODIFIED:20250414T173324Z
UID:10000692-1679518800-1679526000@veq.ca
SUMMARY:Definitely Spring (ish) Fest 2023!
DESCRIPTION:An excuse to get social!\nDo you think winter is way too long?\nVEQ cordially invites you to bring the spirit of spring alive at a 5@7 at 3 Brasseurs Laurier on March 22. \nCome one\, come all!\nMeet and get to know the VEQ team. Hear about what we have been up to\, and get information on what we have in store for you next.\nNibbles and appetisers will be served (and complimentary). Drinks may be purchased on-site.\nBring your friends 🙂 \nPlease RSVP to Maria Hoyt at info@veq.ca or (418) 683-2366 ext. 221 by March 16. \nWe will be located on the Main Floor of the restaurant. See you there!
URL:https://veq.ca/event/definitely-spring-ish-fest-2023/
LOCATION:3 Brasseurs – Place Ste. Foy\, 2450 Bd Laurier\, Local G50\, Québec City\, Quebec\, G1V 2L1\, Canada
ORGANIZER;CN="Maria Hoyt":MAILTO:maria.hoyt@veq.ca
END:VEVENT
BEGIN:VEVENT
DTSTART;TZID=America/Toronto:20230228T220000
DTEND;TZID=America/Toronto:20230301T000000
DTSTAMP:20260425T221916
CREATED:20250414T173623Z
LAST-MODIFIED:20250414T173623Z
UID:10000708-1677621600-1677628800@veq.ca
SUMMARY:**POSTPONED** (Not quite) Spring Fest 2023
DESCRIPTION:**Due to a temporary closure of the 3Brasseurs Laurier\, we need to POSTPONE our 5 @ 7 that was scheduled for February 28th.\n\nStay tuned for a new date soon!**\n  \nAn excuse to get social!\nDo you think winter is way too long?\nVEQ cordially invites you to bring the spirit of spring alive at a 5@7 at 3 Brasseurs Laurier on February 28. \nCome one\, come all!\nMeet and get to know the VEQ team. Hear about what we have been up to\, and get information on what we have in store for you next.\nNibbles and appetisers will be served (and complimentary). Drinks may be purchased on-site.\nBring your friends 🙂 \nPlease RSVP to Maria Hoyt at info@veq.ca or (418) 683-2366 ext. 221 by February 23. \nWe will be located on the Main Floor of the restaurant. See you there!
URL:https://veq.ca/event/postponed-not-quite-spring-fest-2023/
LOCATION:3 Brasseurs – Place Ste. Foy\, 2450 Bd Laurier\, Local G50\, Québec City\, Quebec\, G1V 2L1\, Canada
ORGANIZER;CN="Maria Hoyt":MAILTO:maria.hoyt@veq.ca
END:VEVENT
BEGIN:VEVENT
DTSTART;TZID=America/Toronto:20200326T210000
DTEND;TZID=America/Toronto:20200326T230000
DTSTAMP:20260425T221916
CREATED:20250414T182236Z
LAST-MODIFIED:20250414T182236Z
UID:10001186-1585256400-1585263600@veq.ca
SUMMARY:POSTPONED Spring Fest 5@7
DESCRIPTION:Please note that in response the rapidly evolving COVID-19 situation\, VEQ is postponing the Spring Fest 5@7 that was meant to take place on Thursday\, March 26 for now. \nThe event will take place at a later date. Stay tuned! \n \n 
URL:https://veq.ca/event/postponed-spring-fest-57/
LOCATION:3 Brasseurs – Place Ste. Foy\, 2450 Bd Laurier\, Local G50\, Québec City\, Quebec\, G1V 2L1\, Canada
END:VEVENT
END:VCALENDAR