BEGIN:VCALENDAR
VERSION:2.0
PRODID:-//Voice of English-speaking Québec - ECPv6.15.17.1//NONSGML v1.0//EN
CALSCALE:GREGORIAN
METHOD:PUBLISH
X-WR-CALNAME:Voice of English-speaking Québec
X-ORIGINAL-URL:https://veq.ca
X-WR-CALDESC:Events for Voice of English-speaking Québec
REFRESH-INTERVAL;VALUE=DURATION:PT1H
X-Robots-Tag:noindex
X-PUBLISHED-TTL:PT1H
BEGIN:VTIMEZONE
TZID:America/Toronto
BEGIN:DAYLIGHT
TZOFFSETFROM:-0500
TZOFFSETTO:-0400
TZNAME:EDT
DTSTART:20250309T070000
END:DAYLIGHT
BEGIN:STANDARD
TZOFFSETFROM:-0400
TZOFFSETTO:-0500
TZNAME:EST
DTSTART:20251102T060000
END:STANDARD
BEGIN:DAYLIGHT
TZOFFSETFROM:-0500
TZOFFSETTO:-0400
TZNAME:EDT
DTSTART:20260308T070000
END:DAYLIGHT
BEGIN:STANDARD
TZOFFSETFROM:-0400
TZOFFSETTO:-0500
TZNAME:EST
DTSTART:20261101T060000
END:STANDARD
BEGIN:DAYLIGHT
TZOFFSETFROM:-0500
TZOFFSETTO:-0400
TZNAME:EDT
DTSTART:20270314T070000
END:DAYLIGHT
BEGIN:STANDARD
TZOFFSETFROM:-0400
TZOFFSETTO:-0500
TZNAME:EST
DTSTART:20271107T060000
END:STANDARD
END:VTIMEZONE
BEGIN:VEVENT
DTSTART;TZID=America/Toronto:20260515T130000
DTEND;TZID=America/Toronto:20260515T143000
DTSTAMP:20260422T073025
CREATED:20260421T175814Z
LAST-MODIFIED:20260421T175814Z
UID:10002869-1778850000-1778855400@veq.ca
SUMMARY:Out & About: Walk at Promenade Samuel-De Champlain
DESCRIPTION:  \n \nOut & About offers English speakers (50+) free transportation to various community activities while providing the opportunity to get out\, socialize\, and bond with others. \nThis week\, VEQ is taking you to the Quai des Cageux to enjoy a walk next to the beautiful St-Lawrence River. Together\, we will enjoy an afternoon walk in great company. \nPlease make sure to dress appropriately for the weather. The area can get pretty windy next to the river. If rain is scheduled for that day\, we will try to reschedule. You will be notified at least 24 hours in advance if anything changes. \nWe can pick you up by bus at your place\, or you can meet the group at the Jeffery Hale Pavilion (1270 chemin Ste-Foy\, free parking). There is also free parking available close to the Quai des Cageux. \nTo register or get more information\, please get in touch with Léa Bureau: \nBy phone: (418) 683-2366 ext. 229 \nBy email: lea.bureau@veq.ca  \n\n\nDetails\nArrival at Quai des Cageux around 1:00 p.m.⏰ Bus departing around 2:30 p.m. \nPick-up time will vary depending on your location.
URL:https://veq.ca/event/out-about-walk-at-promenade-samuel-de-champlain/2026-05-15/
LOCATION:Quai des Cageux\, 2795 Bd Champlain\, Québec\, QC\, G1W 2J3\, Canada
CATEGORIES:Activities for Seniors
ORGANIZER;CN="L%C3%A9a Bureau":MAILTO:lea.bureau@veq.ca
END:VEVENT
BEGIN:VEVENT
DTSTART;TZID=America/Toronto:20260529T130000
DTEND;TZID=America/Toronto:20260529T143000
DTSTAMP:20260422T073025
CREATED:20260421T175814Z
LAST-MODIFIED:20260421T175814Z
UID:10002870-1780059600-1780065000@veq.ca
SUMMARY:Out & About: Walk at Promenade Samuel-De Champlain
DESCRIPTION:  \n \nOut & About offers English speakers (50+) free transportation to various community activities while providing the opportunity to get out\, socialize\, and bond with others. \nThis week\, VEQ is taking you to the Quai des Cageux to enjoy a walk next to the beautiful St-Lawrence River. Together\, we will enjoy an afternoon walk in great company. \nPlease make sure to dress appropriately for the weather. The area can get pretty windy next to the river. If rain is scheduled for that day\, we will try to reschedule. You will be notified at least 24 hours in advance if anything changes. \nWe can pick you up by bus at your place\, or you can meet the group at the Jeffery Hale Pavilion (1270 chemin Ste-Foy\, free parking). There is also free parking available close to the Quai des Cageux. \nTo register or get more information\, please get in touch with Léa Bureau: \nBy phone: (418) 683-2366 ext. 229 \nBy email: lea.bureau@veq.ca  \n\n\nDetails\nArrival at Quai des Cageux around 1:00 p.m.⏰ Bus departing around 2:30 p.m. \nPick-up time will vary depending on your location.
URL:https://veq.ca/event/out-about-walk-at-promenade-samuel-de-champlain/2026-05-29/
LOCATION:Quai des Cageux\, 2795 Bd Champlain\, Québec\, QC\, G1W 2J3\, Canada
CATEGORIES:Activities for Seniors
ORGANIZER;CN="L%C3%A9a Bureau":MAILTO:lea.bureau@veq.ca
END:VEVENT
END:VCALENDAR