BEGIN:VCALENDAR
VERSION:2.0
PRODID:-//Voice of English-speaking Québec - ECPv6.15.17.1//NONSGML v1.0//EN
CALSCALE:GREGORIAN
METHOD:PUBLISH
X-WR-CALNAME:Voice of English-speaking Québec
X-ORIGINAL-URL:https://veq.ca
X-WR-CALDESC:Events for Voice of English-speaking Québec
REFRESH-INTERVAL;VALUE=DURATION:PT1H
X-Robots-Tag:noindex
X-PUBLISHED-TTL:PT1H
BEGIN:VTIMEZONE
TZID:America/Toronto
BEGIN:DAYLIGHT
TZOFFSETFROM:-0500
TZOFFSETTO:-0400
TZNAME:EDT
DTSTART:20260308T070000
END:DAYLIGHT
BEGIN:STANDARD
TZOFFSETFROM:-0400
TZOFFSETTO:-0500
TZNAME:EST
DTSTART:20261101T060000
END:STANDARD
BEGIN:DAYLIGHT
TZOFFSETFROM:-0500
TZOFFSETTO:-0400
TZNAME:EDT
DTSTART:20270314T070000
END:DAYLIGHT
BEGIN:STANDARD
TZOFFSETFROM:-0400
TZOFFSETTO:-0500
TZNAME:EST
DTSTART:20271107T060000
END:STANDARD
BEGIN:DAYLIGHT
TZOFFSETFROM:-0500
TZOFFSETTO:-0400
TZNAME:EDT
DTSTART:20280312T070000
END:DAYLIGHT
BEGIN:STANDARD
TZOFFSETFROM:-0400
TZOFFSETTO:-0500
TZNAME:EST
DTSTART:20281105T060000
END:STANDARD
END:VTIMEZONE
BEGIN:VEVENT
DTSTART;TZID=America/Toronto:20270529T103000
DTEND;TZID=America/Toronto:20270529T113000
DTSTAMP:20260423T133252
CREATED:20260423T144624Z
LAST-MODIFIED:20260423T144725Z
UID:10002941-1811586600-1811590200@veq.ca
SUMMARY:Storytime
DESCRIPTION:Family and little ones are welcome to our weekly storytime in the beautiful Morrin Centre Library every Saturday 10:30 to 11:30! \n\n\n\n\nStorytime is a free literacy program for children ages 3 to 7. Each activity begins with the reading of a story followed by a craft inspired by its themes. Our objective is to foster children’s love of reading by providing fun\, interactive activities that will encourage them to continue reading after each session. \nAll sessions are in English and take place in the Library every Saturday from 10:30 to 11:30 a.m! \nRegistration is required to participate\, but participation in every Storytime sessions is not required. \n*For further information\,  please contact our Education Coordinator\, Hee Won Son\, at education@morrin.org. \n\n\n\n\n\n 
URL:https://veq.ca/event/storytime/2027-05-29/
LOCATION:Morrin Centre\, 44 Chaussée des Écossais\, Québec City\, Quebec\, G1R 4H3\, Canada
CATEGORIES:Morrin Center
END:VEVENT
BEGIN:VEVENT
DTSTART;TZID=America/Toronto:20270529T103000
DTEND;TZID=America/Toronto:20270529T113000
DTSTAMP:20260423T133252
CREATED:20260423T144916Z
LAST-MODIFIED:20260423T144916Z
UID:10003000-1811586600-1811590200@veq.ca
SUMMARY:Special Storytime: Family Summer Kick-Off – JH Partners Event
DESCRIPTION:Family and little ones are welcome to our weekly storytime in the beautiful Morrin Centre Library every Saturday 10:30 to 11:30! \n\n\n\n\nStorytime is a free literacy program for children ages 3 to 7. Each activity begins with the reading of a story followed by a craft inspired by its themes. Our objective is to foster children’s love of reading by providing fun\, interactive activities that will encourage them to continue reading after each session. \nAll sessions are in English and take place in the Library every Saturday from 10:30 to 11:30 a.m! \nRegistration is required to participate\, but participation in every Storytime sessions is not required. \n*For further information\,  please contact our Education Coordinator\, Hee Won Son\, at education@morrin.org. \n\n\n\n\n\n 
URL:https://veq.ca/event/special-storytime-family-summer-kick-off-jh-partners-event/2027-05-29/
LOCATION:Quebec
CATEGORIES:Morrin Center
END:VEVENT
BEGIN:VEVENT
DTSTART;TZID=America/Toronto:20270605T103000
DTEND;TZID=America/Toronto:20270605T113000
DTSTAMP:20260423T133252
CREATED:20260423T144624Z
LAST-MODIFIED:20260423T144725Z
UID:10002942-1812191400-1812195000@veq.ca
SUMMARY:Storytime
DESCRIPTION:Family and little ones are welcome to our weekly storytime in the beautiful Morrin Centre Library every Saturday 10:30 to 11:30! \n\n\n\n\nStorytime is a free literacy program for children ages 3 to 7. Each activity begins with the reading of a story followed by a craft inspired by its themes. Our objective is to foster children’s love of reading by providing fun\, interactive activities that will encourage them to continue reading after each session. \nAll sessions are in English and take place in the Library every Saturday from 10:30 to 11:30 a.m! \nRegistration is required to participate\, but participation in every Storytime sessions is not required. \n*For further information\,  please contact our Education Coordinator\, Hee Won Son\, at education@morrin.org. \n\n\n\n\n\n 
URL:https://veq.ca/event/storytime/2027-06-05/
LOCATION:Morrin Centre\, 44 Chaussée des Écossais\, Québec City\, Quebec\, G1R 4H3\, Canada
CATEGORIES:Morrin Center
END:VEVENT
BEGIN:VEVENT
DTSTART;TZID=America/Toronto:20270605T103000
DTEND;TZID=America/Toronto:20270605T113000
DTSTAMP:20260423T133252
CREATED:20260423T144916Z
LAST-MODIFIED:20260423T144916Z
UID:10003001-1812191400-1812195000@veq.ca
SUMMARY:Special Storytime: Family Summer Kick-Off – JH Partners Event
DESCRIPTION:Family and little ones are welcome to our weekly storytime in the beautiful Morrin Centre Library every Saturday 10:30 to 11:30! \n\n\n\n\nStorytime is a free literacy program for children ages 3 to 7. Each activity begins with the reading of a story followed by a craft inspired by its themes. Our objective is to foster children’s love of reading by providing fun\, interactive activities that will encourage them to continue reading after each session. \nAll sessions are in English and take place in the Library every Saturday from 10:30 to 11:30 a.m! \nRegistration is required to participate\, but participation in every Storytime sessions is not required. \n*For further information\,  please contact our Education Coordinator\, Hee Won Son\, at education@morrin.org. \n\n\n\n\n\n 
URL:https://veq.ca/event/special-storytime-family-summer-kick-off-jh-partners-event/2027-06-05/
LOCATION:Quebec
CATEGORIES:Morrin Center
END:VEVENT
BEGIN:VEVENT
DTSTART;TZID=America/Toronto:20270612T103000
DTEND;TZID=America/Toronto:20270612T113000
DTSTAMP:20260423T133252
CREATED:20260423T144624Z
LAST-MODIFIED:20260423T144725Z
UID:10002943-1812796200-1812799800@veq.ca
SUMMARY:Storytime
DESCRIPTION:Family and little ones are welcome to our weekly storytime in the beautiful Morrin Centre Library every Saturday 10:30 to 11:30! \n\n\n\n\nStorytime is a free literacy program for children ages 3 to 7. Each activity begins with the reading of a story followed by a craft inspired by its themes. Our objective is to foster children’s love of reading by providing fun\, interactive activities that will encourage them to continue reading after each session. \nAll sessions are in English and take place in the Library every Saturday from 10:30 to 11:30 a.m! \nRegistration is required to participate\, but participation in every Storytime sessions is not required. \n*For further information\,  please contact our Education Coordinator\, Hee Won Son\, at education@morrin.org. \n\n\n\n\n\n 
URL:https://veq.ca/event/storytime/2027-06-12/
LOCATION:Morrin Centre\, 44 Chaussée des Écossais\, Québec City\, Quebec\, G1R 4H3\, Canada
CATEGORIES:Morrin Center
END:VEVENT
BEGIN:VEVENT
DTSTART;TZID=America/Toronto:20270612T103000
DTEND;TZID=America/Toronto:20270612T113000
DTSTAMP:20260423T133252
CREATED:20260423T144916Z
LAST-MODIFIED:20260423T144916Z
UID:10003002-1812796200-1812799800@veq.ca
SUMMARY:Special Storytime: Family Summer Kick-Off – JH Partners Event
DESCRIPTION:Family and little ones are welcome to our weekly storytime in the beautiful Morrin Centre Library every Saturday 10:30 to 11:30! \n\n\n\n\nStorytime is a free literacy program for children ages 3 to 7. Each activity begins with the reading of a story followed by a craft inspired by its themes. Our objective is to foster children’s love of reading by providing fun\, interactive activities that will encourage them to continue reading after each session. \nAll sessions are in English and take place in the Library every Saturday from 10:30 to 11:30 a.m! \nRegistration is required to participate\, but participation in every Storytime sessions is not required. \n*For further information\,  please contact our Education Coordinator\, Hee Won Son\, at education@morrin.org. \n\n\n\n\n\n 
URL:https://veq.ca/event/special-storytime-family-summer-kick-off-jh-partners-event/2027-06-12/
LOCATION:Quebec
CATEGORIES:Morrin Center
END:VEVENT
BEGIN:VEVENT
DTSTART;TZID=America/Toronto:20270619T103000
DTEND;TZID=America/Toronto:20270619T113000
DTSTAMP:20260423T133252
CREATED:20260423T144624Z
LAST-MODIFIED:20260423T144725Z
UID:10002944-1813401000-1813404600@veq.ca
SUMMARY:Storytime
DESCRIPTION:Family and little ones are welcome to our weekly storytime in the beautiful Morrin Centre Library every Saturday 10:30 to 11:30! \n\n\n\n\nStorytime is a free literacy program for children ages 3 to 7. Each activity begins with the reading of a story followed by a craft inspired by its themes. Our objective is to foster children’s love of reading by providing fun\, interactive activities that will encourage them to continue reading after each session. \nAll sessions are in English and take place in the Library every Saturday from 10:30 to 11:30 a.m! \nRegistration is required to participate\, but participation in every Storytime sessions is not required. \n*For further information\,  please contact our Education Coordinator\, Hee Won Son\, at education@morrin.org. \n\n\n\n\n\n 
URL:https://veq.ca/event/storytime/2027-06-19/
LOCATION:Morrin Centre\, 44 Chaussée des Écossais\, Québec City\, Quebec\, G1R 4H3\, Canada
CATEGORIES:Morrin Center
END:VEVENT
BEGIN:VEVENT
DTSTART;TZID=America/Toronto:20270619T103000
DTEND;TZID=America/Toronto:20270619T113000
DTSTAMP:20260423T133252
CREATED:20260423T144916Z
LAST-MODIFIED:20260423T144916Z
UID:10003003-1813401000-1813404600@veq.ca
SUMMARY:Special Storytime: Family Summer Kick-Off – JH Partners Event
DESCRIPTION:Family and little ones are welcome to our weekly storytime in the beautiful Morrin Centre Library every Saturday 10:30 to 11:30! \n\n\n\n\nStorytime is a free literacy program for children ages 3 to 7. Each activity begins with the reading of a story followed by a craft inspired by its themes. Our objective is to foster children’s love of reading by providing fun\, interactive activities that will encourage them to continue reading after each session. \nAll sessions are in English and take place in the Library every Saturday from 10:30 to 11:30 a.m! \nRegistration is required to participate\, but participation in every Storytime sessions is not required. \n*For further information\,  please contact our Education Coordinator\, Hee Won Son\, at education@morrin.org. \n\n\n\n\n\n 
URL:https://veq.ca/event/special-storytime-family-summer-kick-off-jh-partners-event/2027-06-19/
LOCATION:Quebec
CATEGORIES:Morrin Center
END:VEVENT
BEGIN:VEVENT
DTSTART;TZID=America/Toronto:20270626T103000
DTEND;TZID=America/Toronto:20270626T113000
DTSTAMP:20260423T133252
CREATED:20260423T144624Z
LAST-MODIFIED:20260423T144725Z
UID:10002945-1814005800-1814009400@veq.ca
SUMMARY:Storytime
DESCRIPTION:Family and little ones are welcome to our weekly storytime in the beautiful Morrin Centre Library every Saturday 10:30 to 11:30! \n\n\n\n\nStorytime is a free literacy program for children ages 3 to 7. Each activity begins with the reading of a story followed by a craft inspired by its themes. Our objective is to foster children’s love of reading by providing fun\, interactive activities that will encourage them to continue reading after each session. \nAll sessions are in English and take place in the Library every Saturday from 10:30 to 11:30 a.m! \nRegistration is required to participate\, but participation in every Storytime sessions is not required. \n*For further information\,  please contact our Education Coordinator\, Hee Won Son\, at education@morrin.org. \n\n\n\n\n\n 
URL:https://veq.ca/event/storytime/2027-06-26/
LOCATION:Morrin Centre\, 44 Chaussée des Écossais\, Québec City\, Quebec\, G1R 4H3\, Canada
CATEGORIES:Morrin Center
END:VEVENT
BEGIN:VEVENT
DTSTART;TZID=America/Toronto:20270626T103000
DTEND;TZID=America/Toronto:20270626T113000
DTSTAMP:20260423T133252
CREATED:20260423T144916Z
LAST-MODIFIED:20260423T144916Z
UID:10003004-1814005800-1814009400@veq.ca
SUMMARY:Special Storytime: Family Summer Kick-Off – JH Partners Event
DESCRIPTION:Family and little ones are welcome to our weekly storytime in the beautiful Morrin Centre Library every Saturday 10:30 to 11:30! \n\n\n\n\nStorytime is a free literacy program for children ages 3 to 7. Each activity begins with the reading of a story followed by a craft inspired by its themes. Our objective is to foster children’s love of reading by providing fun\, interactive activities that will encourage them to continue reading after each session. \nAll sessions are in English and take place in the Library every Saturday from 10:30 to 11:30 a.m! \nRegistration is required to participate\, but participation in every Storytime sessions is not required. \n*For further information\,  please contact our Education Coordinator\, Hee Won Son\, at education@morrin.org. \n\n\n\n\n\n 
URL:https://veq.ca/event/special-storytime-family-summer-kick-off-jh-partners-event/2027-06-26/
LOCATION:Quebec
CATEGORIES:Morrin Center
END:VEVENT
END:VCALENDAR