BEGIN:VCALENDAR
VERSION:2.0
PRODID:-//Voice of English-speaking Québec - ECPv6.15.17.1//NONSGML v1.0//EN
CALSCALE:GREGORIAN
METHOD:PUBLISH
X-WR-CALNAME:Voice of English-speaking Québec
X-ORIGINAL-URL:https://veq.ca
X-WR-CALDESC:Events for Voice of English-speaking Québec
REFRESH-INTERVAL;VALUE=DURATION:PT1H
X-Robots-Tag:noindex
X-PUBLISHED-TTL:PT1H
BEGIN:VTIMEZONE
TZID:America/Toronto
BEGIN:DAYLIGHT
TZOFFSETFROM:-0500
TZOFFSETTO:-0400
TZNAME:EDT
DTSTART:20250309T070000
END:DAYLIGHT
BEGIN:STANDARD
TZOFFSETFROM:-0400
TZOFFSETTO:-0500
TZNAME:EST
DTSTART:20251102T060000
END:STANDARD
BEGIN:DAYLIGHT
TZOFFSETFROM:-0500
TZOFFSETTO:-0400
TZNAME:EDT
DTSTART:20260308T070000
END:DAYLIGHT
BEGIN:STANDARD
TZOFFSETFROM:-0400
TZOFFSETTO:-0500
TZNAME:EST
DTSTART:20261101T060000
END:STANDARD
BEGIN:DAYLIGHT
TZOFFSETFROM:-0500
TZOFFSETTO:-0400
TZNAME:EDT
DTSTART:20270314T070000
END:DAYLIGHT
BEGIN:STANDARD
TZOFFSETFROM:-0400
TZOFFSETTO:-0500
TZNAME:EST
DTSTART:20271107T060000
END:STANDARD
END:VTIMEZONE
BEGIN:VEVENT
DTSTART;VALUE=DATE:20260421
DTEND;VALUE=DATE:20260427
DTSTAMP:20260423T045604
CREATED:20260413T154011Z
LAST-MODIFIED:20260413T154011Z
UID:10002856-1776729600-1777247999@veq.ca
SUMMARY:Imagination Writers Festival
DESCRIPTION:What’s the Imagination Writers’ Festival? \nA dynamic and convivial celebration. Pop-up activities\, wine and tea tastings\, workshops\, concerts\, discussions\, and more. \nA cultural meeting space. Meet authors\, translators\, and artists face to face; chat about books\, drinks\, food\, arts\, and more with other Festival attendees; discover new books\, new universes\, new friends. \nAn unforgettable experience. 30+ authors and artists\, 40+ activities at the Morrin Centre and in nearby schools and partner organizations. \n\n\n\n\n\n\n\n\n\n\n\n\n\n\n\n\n\n\n\n\n\n\nConnections\nInclusive Ticketing\nBook Sale\nSalon & Cafe\nSustainable Development\nAccessibility\nFestival Team\nUNESCO City of Literature\n\n\n\n\nThe Imagination Writers’ Festival aims to promote Canadian literature in its many forms\, showcase the diverse literary landscape of our country\, and be a marker of the vitality of our culture. To that effect\, this year\, we are embracing the theme of connections! The Festival team is delighted to present a series of events and activities held in partnership with cultural and literary organizations\, or inspired by (and put together with advice from) other literary festivals. \nAmong these activities are: \n\nLanguages Intertwined discussion\, in collaboration with the Kwahiatonhk! Festival\nSilent Writing activity\, inspired by the GritLit Festival\nPop-Up-Cartoonist activity\, in collaboration with QuébecBD\nLiterary Translation panel\, in collaboration with the Maison de la littérature\nPop-Up-Poet activity\, inspired by and with advice from the Whistler Writers Festival (and poet Bronwyn Preece) and the Vancouver Writers’ Fest (and poet Elliott Slinn)\n\n\n\n\n\n\n\n\n\n\n\n\n\n\n\n\n\n\n\n\nClick on the images to learn more about the events and buy your tickets! \n\n\n\n\n\n\n\n\n\n\n\n\n\n\n\n\n\n\n\nFestival Pass \nYou would like to register for many of our Imagination Festival events? The Festival Pass is for you! In a single purchase\, save your spot for up to 15 Festival events. \n—Should you wish\, after your purchase\, to add or remove events from your registration list\, please contact us at info@morrin.org. \n—The following events are NOT included in the Festival Pass: Launch\, youth events\, Books & Wine\, Books & Tea. \n—The Festival Pass is not retroactive. The cost of any individual tickets purchased before this Festival Pass will not be deduced from its cost. \nPlease note: registration to workshops with limited space will be treated on a first-come\, first-serve basis. Selecting it in the Festival Pass registration form does not guarantee a spot in the workshops. A confirmation will be sent to you by email within five business day following your purchase. Should there be no spots left for a workshop by the time of your Festival Pass purchase\, we will let you know and add your name to the waiting list. \n\n\n\n\n\n\n\n\n\n\n\n\n\n\n\n\n\n\n\n\n\n**Please visit the Morrin Centre website for more festival details and passes. \n\n\n\n\n\n\n\n\n\n\n\n\n  \n\n\n\n\n\n\n\n\n\n\n 
URL:https://veq.ca/event/imagination-writers-festival-2/
LOCATION:Morrin Centre\, 44 Chaussée des Écossais\, Québec City\, Quebec\, G1R 4H3\, Canada
ORGANIZER;CN="Morrin Centre":MAILTO:info@morrin.org
END:VEVENT
BEGIN:VEVENT
DTSTART;TZID=America/Toronto:20260421T093000
DTEND;TZID=America/Toronto:20260421T103000
DTSTAMP:20260423T045604
CREATED:20250414T123758Z
LAST-MODIFIED:20251202T170101Z
UID:10002319-1776763800-1776767400@veq.ca
SUMMARY:Chair Yoga - Shannon
DESCRIPTION:VEQ in partnership with the Valcartier Military Family Resource Center will be hosting chair yoga classes in the Northern Perimeter.  Running every Tuesday from September 16th to December 15th\, the classes will be held from 9:30 to 10:30am.  A chair yoga session compliments a guided meditation during this 50 minute long class.  Equipment is provided but participants are asked to bring their own mats if they have them. Registration is required by contacting David Zhu at david.zhu@veq.ca or by calling 418-683-2366 x 228.
URL:https://veq.ca/event/chair-yoga-shannon/2026-04-21/
LOCATION:Valcartier Military Family Resource Centre\, Edifice 93 C.P. 1000\, Succursale Forces\, Courcelette\, Quebec\, G0A 4Z0\, Canada
ORGANIZER;CN="David Zhu":MAILTO:david.zhu@veq.ca
END:VEVENT
BEGIN:VEVENT
DTSTART;TZID=America/Toronto:20260421T100000
DTEND;TZID=America/Toronto:20260421T120000
DTSTAMP:20260423T045604
CREATED:20260128T165548Z
LAST-MODIFIED:20260128T165548Z
UID:10002771-1776765600-1776772800@veq.ca
SUMMARY:Brain-Power Drop-In
DESCRIPTION:Brain-Power Drop-in\n\nFebruary 3 @ 10:00 am – 12:00 pm\n Event Series (See All)\n\n\n\n\nAre you an English-speaking adult aged 50+ who wants to keep your mind sharp and healthy?Come join us for fun and stimulating board games designed to challenge your brain and help you connect with others. \n Train your brain and play at your own pace\n Meet new people\n Enjoy a healthy snack \nTo participate:\nContact Anaïs\n afortinmaltais@jhpartners.net\n 581-446-7476 \nTo volunteer:\nBoost your own brain power while supporting others—it’s a win-win!\nContact Elise\n eholloway@jhpartners.net\n 581-446-6452 \n\nhttps://jhpartners.net/event/brain-power/2026-02-03/ \nFinancial contribution from:
URL:https://veq.ca/event/brain-power-drop-in-5/2026-04-21/
LOCATION:Jeffery Hale Pavilion\, 1270\, chemin Sainte-Foy\, Québec City\, Quebec\, G1S 2M4\, Canada
ORGANIZER;CN="Ana%C3%AFs Fortin-Maltais":MAILTO:afortinmaltais@jhpartners.net
END:VEVENT
BEGIN:VEVENT
DTSTART;TZID=America/Toronto:20260421T180000
DTEND;TZID=America/Toronto:20260421T193000
DTSTAMP:20260423T045604
CREATED:20260408T205212Z
LAST-MODIFIED:20260408T205212Z
UID:10002855-1776794400-1776799800@veq.ca
SUMMARY:Let's Play (Games nights in Shannon)
DESCRIPTION:Let’s Play” (Game Nights/Shannon) \nCome join us to have a laugh\, meet new people and play board/card games! Bring your own to show and play! \nSign ups open for TUE 4/21 (min. 3 participants) \n 
URL:https://veq.ca/event/lets-play-games-nights-in-shannon-2/
LOCATION:VEQ Community Space (Shannon)\, 438 Blvd Jacques-Cartier\, Suite 109\, Shannon\, Quebec\, G3S 1N5\, Canada
CATEGORIES:Events and Activities for All
ORGANIZER;CN="Dominique Paddack":MAILTO:dominique.paddack@veq.ca
END:VEVENT
END:VCALENDAR